BEGIN:VCALENDAR
VERSION:2.0
PRODID:-//ChamberMaster//Event Calendar 2.0//EN
METHOD:PUBLISH
X-PUBLISHED-TTL:P3D
REFRESH-INTERVAL:P3D
CALSCALE:GREGORIAN
BEGIN:VEVENT
DTSTART:20140306T203000Z
DTEND:20140307T000000Z
X-MICROSOFT-CDO-ALLDAYEVENT:FALSE
SUMMARY:Seminar: Canadian Customs Compliance
DESCRIPTION:Pacific Customs Brokers is offering a seminar on Canadian Customs Compliance to commercial/professional importers\, non-resident importers\, controllers\, carriers\, shippers and receivers. The seminar will focus on compliance and regulations of goods imported into Canada. This is a great opportunity for businesses with newly hired logistics staff to receive cost-effective training and/or refresh their awareness in the transportation industry.\n\n	\n\n	\n*5 CCS points towards maintenance of the CCS/CTCS designation will be awarded by the Canadian Society of Customs Brokers.
X-ALT-DESC;FMTTYPE=text/html:<p class="MsoNormal">\n	<strong><span lang="EN-CA" style="font-size:11.0pt\;font-family:\n&quot\;Calibri&quot\;\,&quot\;sans-serif&quot\;">Pacific Customs Brokers </span></strong><span lang="EN-CA" style="font-size:11.0pt\;font-family:&quot\;Calibri&quot\;\,&quot\;sans-serif&quot\;">is offering a seminar on Canadian Customs Compliance to commercial/professional importers\, non-resident importers\, controllers\, carriers\, shippers and receivers. The seminar will focus on compliance and regulations of goods imported into <st1:country-region w:st="on"><st1:place w:st="on">Canada</st1:place></st1:country-region>. This is a great opportunity for businesses with newly hired logistics staff to receive cost-effective training and/or refresh their awareness in the transportation industry.<br />\n	<!--[if !supportLineBreakNewLine]--><br />\n	<!--[endif]--><o:p></o:p></span></p>\n<strong><span lang="EN-CA" style="font-size:11.0pt\;font-family:&quot\;Calibri&quot\;\,&quot\;sans-serif&quot\;\;\nmso-fareast-font-family:&quot\;Times New Roman&quot\;\;mso-ansi-language:EN-CA\;mso-fareast-language:\nEN-CA\;mso-bidi-language:AR-SA\;font-weight:normal\;mso-bidi-font-style:italic">*5 CCS points towards maintenance of the CCS/CTCS designation will be awarded by the Canadian Society of Customs Brokers.</span></strong>
LOCATION:Pacific Customs Brokers- Seminar Room 101-17637 1st Avenue\, Surrey\, BC
UID:e.749.2517
SEQUENCE:3
DTSTAMP:20260425T235248Z
URL:https://business.swrbot.com/events/details/seminar-canadian-customs-compliance-03-06-2014-2517
END:VEVENT

END:VCALENDAR
