BEGIN:VCALENDAR
VERSION:2.0
PRODID:-//ChamberMaster//Event Calendar 2.0//EN
METHOD:PUBLISH
X-PUBLISHED-TTL:P3D
REFRESH-INTERVAL:P3D
CALSCALE:GREGORIAN
BEGIN:VEVENT
DTSTART:20150319T160000Z
DTEND:20150319T223000Z
X-MICROSOFT-CDO-ALLDAYEVENT:FALSE
SUMMARY:Seminar: Canadian Trade Compliance Explained
DESCRIPTION:Importing and exporting commercial goods into and out of Canada can be a complex endeavour. It requires a good understanding of various Canada Border Services Agency (CBSA) and other government department (OGD) regulations. In this full-day seminar (half customs compliance and half customs audit) we will focus on the differences between voluntary and enforced compliance\, the definition and expectation of "reasonable care"\, the potential monetary risks of non-compliance\, required documentation and more. Throughout the day\, you will learn the importance of complying with customs regulations and what you can do to assure that you meet all of the requirements governing the movement of commercial goods. Whether you are importing or exporting as a resident or Non-Resident Importer (NRI)\, you should be aware that at some point your business is likely to be selected for a customs audit thus making it imperative that you are in control of your business' customs process.
X-ALT-DESC;FMTTYPE=text/html:Importing and exporting commercial goods into and out of Canada can be a complex endeavour. It requires a good understanding of various Canada Border Services Agency (CBSA) and other government department (OGD) regulations. In this full-day seminar (half customs compliance and half customs audit) we will focus on the differences between voluntary and enforced compliance\, the definition and expectation of &ldquo\;reasonable care&rdquo\;\, the potential monetary risks of non-compliance\, required documentation and more. Throughout the day\, you will learn the importance of complying with customs regulations and what you can do to assure that you meet all of the requirements governing the movement of commercial goods. Whether you are importing or exporting as a resident or Non-Resident Importer (NRI)\, you should be aware that at some point your business is likely to be selected for a customs audit thus making it imperative that you are in control of your business&rsquo\; customs process.
LOCATION:UBC Robson Square - Gallery Room (C400) 800 Robson Street\, Vancouver\, BC
UID:e.749.3303
SEQUENCE:3
DTSTAMP:20260423T101322Z
URL:https://business.swrbot.com/events/details/seminar-canadian-trade-compliance-explained-03-19-2015-3303
END:VEVENT

END:VCALENDAR
