BEGIN:VCALENDAR
VERSION:2.0
PRODID:-//ChamberMaster//Event Calendar 2.0//EN
METHOD:PUBLISH
X-PUBLISHED-TTL:P3D
REFRESH-INTERVAL:P3D
CALSCALE:GREGORIAN
BEGIN:VEVENT
DTSTART:20140925T193000Z
DTEND:20140925T223000Z
X-MICROSOFT-CDO-ALLDAYEVENT:FALSE
SUMMARY:Seminar: CFIA
DESCRIPTION:Pacific Customs Brokers is offering a seminar related to goods regulated by the Canadian Food Inspection Agency (CFIA). By attending this seminar\, you will gain a better understanding of how the CFIA and Canada Customs interact. The knowledge you will acquire will expedite your shipments rather than trigger costly delays. This is a great opportunity for businesses with newly hired logistics staff to receive cost-effective training and/or refresh their awareness of cross-border trade. \n\n \n\n5 points towards maintenance of the CCS/CTCS designation(s) will be awarded by the Canadian Society of Customs Brokers (CSCB).
X-ALT-DESC;FMTTYPE=text/html:<div>Pacific Customs Brokers is offering a seminar related to goods regulated by the Canadian Food Inspection Agency (CFIA). By attending this seminar\, you will gain a better understanding of how the CFIA and Canada Customs interact. The knowledge you will acquire will expedite your shipments rather than trigger costly delays. This is a great opportunity for businesses with newly hired logistics staff to receive cost-effective training and/or refresh their awareness of cross-border trade.&nbsp\;</div>\n\n<div>&nbsp\;</div>\n\n<div>5 points towards maintenance of the CCS/CTCS designation(s) will be awarded by the Canadian Society of Customs Brokers (CSCB).&nbsp\;</div>\n
LOCATION:Pacific Customs Brokers- Seminar Room 101-17637 1st Avenue\, Surrey\, BC
UID:e.749.2711
SEQUENCE:3
DTSTAMP:20260425T163745Z
URL:https://business.swrbot.com/events/details/seminar-cfia-09-25-2014-2711
END:VEVENT

END:VCALENDAR
