BEGIN:VCALENDAR
VERSION:2.0
PRODID:-//ChamberMaster//Event Calendar 2.0//EN
METHOD:PUBLISH
X-PUBLISHED-TTL:P3D
REFRESH-INTERVAL:P3D
CALSCALE:GREGORIAN
BEGIN:VEVENT
DTSTART:20140925T160000Z
DTEND:20140925T190000Z
X-MICROSOFT-CDO-ALLDAYEVENT:FALSE
SUMMARY:Seminar: FDA
DESCRIPTION:Pacific Customs Brokers is offering a seminar related to goods regulated by the U.S. Food and Drug Administration (FDA). By attending this seminar\, you will gain a better understanding of how the FDA and U.S. Customs interact. The knowledge you will acquire will expedite your shipments rather than trigger costly delays. This is a great opportunity for businesses with newly hired logistics staff to receive cost-effective training and/or refresh their awareness of cross-border trade. \n\n \n\n5 points towards maintenance of the CCS/CTCS designation(s) will be awarded by the Canadian Society of Customs Brokers (CSCB). \n\n \n\nThis event has been approved by the NCBFAA Educational Institute (NEI) for 3 points towards maintenance of the U.S. CCS designation.
X-ALT-DESC;FMTTYPE=text/html:<div>Pacific Customs Brokers is offering a seminar related to goods regulated by the U.S. Food and Drug Administration (FDA). By attending this seminar\, you will gain a better understanding of how the FDA and U.S. Customs interact. The knowledge you will acquire will expedite your shipments rather than trigger costly delays. This is a great opportunity for businesses with newly hired logistics staff to receive cost-effective training and/or refresh their awareness of cross-border trade.&nbsp\;</div>\n\n<div>&nbsp\;</div>\n\n<div>5 points towards maintenance of the CCS/CTCS designation(s) will be awarded by the Canadian Society of Customs Brokers (CSCB).&nbsp\;</div>\n\n<div>&nbsp\;</div>\n\n<div>This event has been approved by the NCBFAA Educational Institute (NEI) for 3 points towards maintenance of the U.S. CCS designation.</div>\n
LOCATION:Pacific Customs Brokers - Seminar Room 101-17637 1st Avenue\, Surrey\, BC
UID:e.749.2710
SEQUENCE:3
DTSTAMP:20260425T163246Z
URL:https://business.swrbot.com/events/details/seminar-fda-09-25-2014-2710
END:VEVENT

END:VCALENDAR
