BEGIN:VCALENDAR
VERSION:2.0
PRODID:-//ChamberMaster//Event Calendar 2.0//EN
METHOD:PUBLISH
X-PUBLISHED-TTL:P3D
REFRESH-INTERVAL:P3D
CALSCALE:GREGORIAN
BEGIN:VEVENT
DTSTART:20140410T160000Z
DTEND:20140410T183000Z
X-MICROSOFT-CDO-ALLDAYEVENT:FALSE
SUMMARY:Seminar: Global Export
DESCRIPTION:Pacific Customs Brokers and Pacific Overseas Forwarding are offering a seminar on exporting from Canada.  This seminar will focus on exporting products to countries other than the United States and will be of interest to those business owners looking to expand their traditional product market. The seminar will provide you with a solid foundation of reporting\, record keeping requirements and terms of sale. You will also have a better understanding of Free Trade Agreements\, regulations and how to prepare the documentation for export.
X-ALT-DESC;FMTTYPE=text/html:<div>\n	Pacific Customs Brokers and Pacific Overseas Forwarding are offering a seminar on exporting from Canada. &nbsp\;This seminar will focus on exporting products to countries other than the United States and will be of interest to those business owners looking to expand their traditional product market. The seminar will provide you with a solid foundation of reporting\, record keeping requirements and terms of sale. You will also have a better understanding of Free Trade Agreements\, regulations and how to prepare the documentation for export.</div>\n
LOCATION:Pacific Customs Brokers - Seminar Room 101-17637 1st Avenue\, Surrey\, BC
UID:e.749.2520
SEQUENCE:3
DTSTAMP:20260425T223626Z
URL:https://business.swrbot.com/events/details/seminar-global-export-04-10-2014-2520
END:VEVENT

END:VCALENDAR
