BEGIN:VCALENDAR
VERSION:2.0
PRODID:-//ChamberMaster//Event Calendar 2.0//EN
METHOD:PUBLISH
X-PUBLISHED-TTL:P3D
REFRESH-INTERVAL:P3D
CALSCALE:GREGORIAN
BEGIN:VEVENT
DTSTART:20141029T160000Z
DTEND:20141029T183000Z
X-MICROSOFT-CDO-ALLDAYEVENT:FALSE
SUMMARY:Seminar: Global Export
DESCRIPTION:Pacific Customs Brokers and Pacific Overseas Forwarding are offering a seminar on exporting from Canada. This seminar will focus on selling and shipping products to countries other than the United States and will be of interest to business owners\, controllers\, CFOs\, logistics managers\, operations managers looking to expand their traditional product market. The seminar will provide you with a solid foundation of reporting\, record keeping requirements and terms of sale. By attending this session\, you will gain a better understanding of free trade agreements\, regulations and how to prepare the documentation for export.\n\n \n\nThis event has been approved by the NCBFAA Educational Institute (NEI) for 2.5 points towards maintenance of the U.S. CES designation.
X-ALT-DESC;FMTTYPE=text/html:<div>Pacific Customs Brokers and Pacific Overseas Forwarding are offering a seminar on exporting from Canada. This seminar will focus on selling and shipping products to countries other than the United States and will be of interest to business owners\, controllers\, CFOs\, logistics managers\, operations managers looking to expand their traditional product market. The seminar will provide you with a solid foundation of reporting\, record keeping requirements and terms of sale. By attending this session\, you will gain a better understanding of free trade agreements\, regulations and how to prepare the documentation for export.</div>\n\n<div>&nbsp\;</div>\n\n<div>This event has been approved by the NCBFAA Educational Institute (NEI) for 2.5 points towards maintenance of the U.S. CES designation.</div>\n
LOCATION:Pacific Customs Brokers - Seminar Room 101-17637 1st Avenue\, Surrey\, BC
UID:e.749.2716
SEQUENCE:3
DTSTAMP:20260425T150928Z
URL:https://business.swrbot.com/events/details/seminar-global-export-10-29-2014-2716
END:VEVENT

END:VCALENDAR
