BEGIN:VCALENDAR
VERSION:2.0
PRODID:-//ChamberMaster//Event Calendar 2.0//EN
METHOD:PUBLISH
X-PUBLISHED-TTL:P3D
REFRESH-INTERVAL:P3D
CALSCALE:GREGORIAN
BEGIN:VEVENT
DTSTART:20140206T170000Z
DTEND:20140206T231500Z
X-MICROSOFT-CDO-ALLDAYEVENT:FALSE
SUMMARY:Seminar: H.S. Tariff and Classification
DESCRIPTION:Pacific Customs Brokers is offering a workshop on Harmonized System Tariff and Classification. The session will focus on H.S. Tariff Codes for importation of commercial goods into either Canada or the United States and will provide hands on experience in classifying goods and parts\, help understand the complexities of the various rules of interpretations of the H.S. Tariff System. Additionally\, you will gain a better understanding on how duties are determined and how certain special programs may assist you in lowering the duties that your business pays for imported goods. This session will be of interest to: Business Owners\, Operation Managers\, Controllers\, Purchasers and Receivers. This is a great opportunity for businesses with newly hired logistics staff to receive cost-effective training and/or refresh their awareness in the transportation industry.\n\n	\n\n	*5 CCS points towards maintenance of the CCS/CTCS designation will be awarded by the Canadian Society of Customs Brokers.
X-ALT-DESC;FMTTYPE=text/html:<p class="MsoNormal">\n	<font color="#231f20" face="Swiss721BT-BoldCondensed\, sans-serif"><b>Pacific Customs Brokers is offering a workshop on Harmonized System Tariff and Classification. The session will focus on H.S. Tariff Codes for importation of commercial goods into either Canada or the United States and will provide hands on experience in classifying goods and parts\, help understand the complexities of the various rules of interpretations of the H.S. Tariff System. Additionally\, you will gain a better understanding on how duties are determined and how certain special programs may assist you in lowering the duties that your business pays for imported goods. This session will be of interest to: Business Owners\, Operation Managers\, Controllers\, Purchasers and Receivers. This is a great opportunity for businesses with newly hired logistics staff to receive cost-effective training and/or refresh their awareness in the transportation industry.</b></font><br />\n	<br />\n	<b style="color: rgb(35\, 31\, 32)\; font-family: Swiss721BT-BoldCondensed\, sans-serif\;">*5 CCS points towards maintenance of the CCS/CTCS designation will be awarded by the Canadian Society of Customs Brokers.</b></p>\n
LOCATION:Pacific Customs Brokers - Seminar Room 101-17637 1st Avenue\, Surrey\, BC
UID:e.749.2514
SEQUENCE:3
DTSTAMP:20260426T010850Z
URL:https://business.swrbot.com/events/details/seminar-h-s-tariff-and-classification-02-06-2014-2514
END:VEVENT

END:VCALENDAR
