BEGIN:VCALENDAR
VERSION:2.0
PRODID:-//ChamberMaster//Event Calendar 2.0//EN
METHOD:PUBLISH
X-PUBLISHED-TTL:P3D
REFRESH-INTERVAL:P3D
CALSCALE:GREGORIAN
BEGIN:VEVENT
DTSTART:20140220T170000Z
DTEND:20140220T220000Z
X-MICROSOFT-CDO-ALLDAYEVENT:FALSE
SUMMARY:Seminar: NAFTA
DESCRIPTION:Pacific Customs Brokers is offering a North American Free Trade Agreement (NAFTA) Workshop for both Canadian & U.S. companies. We will assist you in understanding your responsibilities under NAFTA\, and will provide you with practical tools for completing certification of your products. In addition\, we will provide instruction on the Rules of Origin and classification of your goods under the Harmonized Tariff Schedule. This session will be of interest to: Business Owners\, Operations Managers\, Controllers\, Purchasers\, Logistics Supervisors/Coordinators and Production Managers importing and exporting within North America.\n\n	\n\n	*5 CCS points towards maintenance of the CCS/CTCS designation will be awarded by the Canadian Society of Customs Brokers.
X-ALT-DESC;FMTTYPE=text/html:<p class="MsoNormal">\n	<strong><span lang="EN-CA" style="font-size:11.0pt\;font-family:\n&quot\;Calibri&quot\;\,&quot\;sans-serif&quot\;">Pacific Customs Brokers </span></strong><span lang="EN-CA" style="font-size:11.0pt\;font-family:&quot\;Calibri&quot\;\,&quot\;sans-serif&quot\;">is offering a <em>North American Free Trade Agreement (NAFTA) Workshop </em>for both Canadian &amp\; U.S. companies. We will assist you in understanding your responsibilities under NAFTA\, and will provide you with practical tools for completing certification of your products. In addition\, we will provide instruction on the Rules of Origin and classification of your goods under the Harmonized Tariff Schedule. This session will be of interest to: Business Owners\, Operations Managers\, Controllers\, Purchasers\, Logistics Supervisors/Coordinators and Production Managers importing and exporting within <st1:place w:st="on">North America</st1:place>.</span><br />\n	<br />\n	<span style="font-family: Calibri\, sans-serif\; font-size: 11pt\;">*5 CCS points towards maintenance of the CCS/CTCS designation will be awarded by the Canadian Society of Customs Brokers.</span></p>\n
LOCATION:Pacific Customs Brokers - Seminar Room 101-17637 1st Avenue\, Surrey\, BC
UID:e.749.2515
SEQUENCE:3
DTSTAMP:20260426T021652Z
URL:https://business.swrbot.com/events/details/seminar-nafta-02-20-2014-2515
END:VEVENT

END:VCALENDAR
