BEGIN:VCALENDAR
VERSION:2.0
PRODID:-//ChamberMaster//Event Calendar 2.0//EN
METHOD:PUBLISH
X-PUBLISHED-TTL:P3D
REFRESH-INTERVAL:P3D
CALSCALE:GREGORIAN
BEGIN:VEVENT
DTSTART:20140529T193000Z
DTEND:20140529T223000Z
X-MICROSOFT-CDO-ALLDAYEVENT:FALSE
SUMMARY:Seminar: U.S. Customs Audit
DESCRIPTION:If your business is exporting or importing goods into the United States\, whether you are a Resident or a Non-Resident Importer (NRI)\, you should be aware that at some point\, you are likely to be selected for an audit process by U.S. Customs and Border Protection. Pacific Customs Brokers is offering a seminar on evaluating your understanding of compliance with Customs regulations. This session will be of interest to all Importers\, Non-Resident or Resident Business Owners\, Controllers\, Operational and Compliance Managers\, Purchasing Managers and Logistics Managers. \n\n	 \n\n	*5 CCS points towards maintenance of the CCS/CTCS designation will be awarded by the Canadian Society of Customs Brokers.
X-ALT-DESC;FMTTYPE=text/html:<div>\n	If your business is exporting or importing goods into the United States\, whether you are a Resident or a Non-Resident Importer (NRI)\, you should be aware that at some point\, you are likely to be selected for an audit process by U.S. Customs and Border Protection. Pacific Customs Brokers is offering a seminar on evaluating your understanding of compliance with Customs regulations. This session will be of interest to all Importers\, Non-Resident or Resident Business Owners\, Controllers\, Operational and Compliance Managers\, Purchasing Managers and Logistics Managers.&nbsp\;</div>\n<div>\n	&nbsp\;</div>\n<div>\n	*5 CCS points towards maintenance of the CCS/CTCS designation will be awarded by the Canadian Society of Customs Brokers.&nbsp\;</div>\n
LOCATION:Pacific Customs Brokers - Seminar Room 101-17637 1st Avenue\, Surrey\, BC
UID:e.749.2524
SEQUENCE:3
DTSTAMP:20260425T212827Z
URL:https://business.swrbot.com/events/details/seminar-u-s-customs-audit-05-29-2014-2524
END:VEVENT

END:VCALENDAR
