BEGIN:VCALENDAR
VERSION:2.0
PRODID:-//ChamberMaster//Event Calendar 2.0//EN
METHOD:PUBLISH
X-PUBLISHED-TTL:P3D
REFRESH-INTERVAL:P3D
CALSCALE:GREGORIAN
BEGIN:VEVENT
DTSTART:20140918T160000Z
DTEND:20140918T190000Z
X-MICROSOFT-CDO-ALLDAYEVENT:FALSE
SUMMARY:Seminar: U.S. Customs Audit
DESCRIPTION:If your business is exporting or importing goods into the United States\, whether you are a Resident or a Non-Resident Importer (NRI)\, you should be aware that at some point\, you are likely to be selected for an audit process by U.S. Customs and Border Protection. Pacific Customs Brokers is offering a seminar on evaluating your understanding of compliance with Customs regulations\, the differences between voluntary and enforced compliance\, the expectation of "reasonable care"\, the potential cost risks of non-compliance\, and best practices. \n\n \n\n*5 points towards maintenance of the CCS/CTCS designation(s) will be awarded by the Canadian Society of Customs Brokers (CSCB). \n\n \n\nThis event has been approved by the NCBFAA Educational Institute (NEI) for 3 points towards maintenance of the U.S. CCS designation.
X-ALT-DESC;FMTTYPE=text/html:<div>If your business is exporting or importing goods into the United States\, whether you are a Resident or a Non-Resident Importer (NRI)\, you should be aware that at some point\, you are likely to be selected for an audit process by U.S. Customs and Border Protection. Pacific Customs Brokers is offering a seminar on evaluating your understanding of compliance with Customs regulations\, the differences between voluntary and enforced compliance\, the expectation of &ldquo\;reasonable care&rdquo\;\, the potential cost risks of non-compliance\, and best practices.&nbsp\;</div>\n\n<div>&nbsp\;</div>\n\n<div>*5 points towards maintenance of the CCS/CTCS designation(s) will be awarded by the Canadian Society of Customs Brokers (CSCB).&nbsp\;</div>\n\n<div>&nbsp\;</div>\n\n<div>This event has been approved by the NCBFAA Educational Institute (NEI) for 3 points towards maintenance of the U.S. CCS designation.</div>\n
LOCATION:Pacific Customs Brokers - Seminar Room 101-17637 1st Avenue\, Surrey\, BC
UID:e.749.2708
SEQUENCE:3
DTSTAMP:20260425T163254Z
URL:https://business.swrbot.com/events/details/seminar-u-s-customs-audit-09-18-2014-2708
END:VEVENT

END:VCALENDAR
