BEGIN:VCALENDAR
VERSION:2.0
PRODID:-//ChamberMaster//Event Calendar 2.0//EN
METHOD:PUBLISH
X-PUBLISHED-TTL:P3D
REFRESH-INTERVAL:P3D
CALSCALE:GREGORIAN
BEGIN:VEVENT
DTSTART:20140306T170000Z
DTEND:20140306T200000Z
X-MICROSOFT-CDO-ALLDAYEVENT:FALSE
SUMMARY:Seminar: U.S. Customs Compliance
DESCRIPTION:Pacific Customs Brokers is offering a seminar on U.S. Customs Compliance to importers\, non-resident importers\, commercial/professional\, controllers\, carriers\, shippers and receivers. The seminar will focus on compliance and regulations of goods imported/exported into the USA. This is a great opportunity for businesses with newly hired logistics staff to receive cost-effective training and/or refresh their awareness in the transportation industry.\n\n	 \n\n	*5 CCS points towards maintenance of the CCS/CTCS designation will be awarded by the Canadian Society of Customs Brokers.
X-ALT-DESC;FMTTYPE=text/html:<div>\n	Pacific Customs Brokers is offering a seminar on U.S. Customs Compliance to importers\, non-resident importers\, commercial/professional\, controllers\, carriers\, shippers and receivers. The seminar will focus on compliance and regulations of goods imported/exported into the USA. This is a great opportunity for businesses with newly hired logistics staff to receive cost-effective training and/or refresh their awareness in the transportation industry.</div>\n<div>\n	&nbsp\;</div>\n<div>\n	*5 CCS points towards maintenance of the CCS/CTCS designation will be awarded by the Canadian Society of Customs Brokers.&nbsp\;</div>\n<div>\n	&nbsp\;</div>\n
LOCATION:Pacific Customs Brokers - Seminar Room 101-17637 1st Avenue\, Surrey\, BC
UID:e.749.2516
SEQUENCE:3
DTSTAMP:20260425T235145Z
URL:https://business.swrbot.com/events/details/seminar-u-s-customs-compliance-03-06-2014-2516
END:VEVENT

END:VCALENDAR
