BEGIN:VCALENDAR
VERSION:2.0
PRODID:-//ChamberMaster//Event Calendar 2.0//EN
METHOD:PUBLISH
X-PUBLISHED-TTL:P3D
REFRESH-INTERVAL:P3D
CALSCALE:GREGORIAN
BEGIN:VEVENT
DTSTART:20140501T160000Z
DTEND:20140501T190000Z
X-MICROSOFT-CDO-ALLDAYEVENT:FALSE
SUMMARY:Seminar: U.S. Customs Compliance
DESCRIPTION:Pacific Customs Brokers is offering a seminar on U.S. Customs Compliance to importers\, non-resident importers\, commercial/professional\, controllers\, carriers\, shippers and receivers. The seminar will focus on compliance and regulations of goods imported/exported into the USA. This is a great opportunity for businesses with newly hired logistics staff to receive cost-effective training and/or refresh their awareness in the transportation industry.\n\n	\n\n	\n\n	*5 CCS points towards maintenance of the CCS/CTCS designation will be awarded by the Canadian Society of Customs Brokers.
X-ALT-DESC;FMTTYPE=text/html:<p class="MsoNormal">\n	<strong><span lang="EN-CA" style="font-size:11.0pt\;font-family:\n&quot\;Calibri&quot\;\,&quot\;sans-serif&quot\;">Pacific Customs Brokers </span></strong><span lang="EN-CA" style="font-size:11.0pt\;font-family:&quot\;Calibri&quot\;\,&quot\;sans-serif&quot\;">is offering a seminar on U.S. Customs Compliance to importers\, non-resident importers\, commercial/professional\, controllers\, carriers\, shippers and receivers. The seminar will focus on compliance and regulations of goods imported/exported into the USA. This is a great opportunity for businesses with newly hired logistics staff to receive cost-effective training and/or refresh their awareness in the transportation industry.<br />\n	<!--[if !supportLineBreakNewLine]--><br />\n	<!--[endif]--><o:p></o:p></span></p>\n<p class="MsoNormal">\n	<strong><span lang="EN-CA" style="font-size:11.0pt\;font-family:\n&quot\;Calibri&quot\;\,&quot\;sans-serif&quot\;\;font-weight:normal\;mso-bidi-font-style:italic">*5 CCS points towards maintenance of the CCS/CTCS designation will be awarded by the Canadian Society of Customs Brokers.&nbsp\;<o:p></o:p></span></strong></p>\n
LOCATION:Pacific Customs Brokers - Seminar Room 101-17637 1st Avenue\, Surrey\, BC
UID:e.749.2521
SEQUENCE:3
DTSTAMP:20260425T212826Z
URL:https://business.swrbot.com/events/details/seminar-u-s-customs-compliance-05-01-2014-2521
END:VEVENT

END:VCALENDAR
