BEGIN:VCALENDAR
VERSION:2.0
PRODID:-//ChamberMaster//Event Calendar 2.0//EN
METHOD:PUBLISH
X-PUBLISHED-TTL:P3D
REFRESH-INTERVAL:P3D
CALSCALE:GREGORIAN
BEGIN:VEVENT
DTSTART:20140904T193000Z
DTEND:20140904T223000Z
X-MICROSOFT-CDO-ALLDAYEVENT:FALSE
SUMMARY:Seminar: U.S. Customs Compliance
DESCRIPTION:Pacific Customs Brokers is offering a seminar on U.S. Customs Compliance. The seminar will focus on compliance and regulations of goods imported/exported into the USA. This is a great opportunity for businesses with newly hired logistics staff to receive cost-effective training and/or refresh their awareness in the transportation industry. \n\n \n\n*5 points towards maintenance of the CCS/CTCS designation(s) will be awarded by the Canadian Society of Customs Brokers (CSCB). \n\n \n\nThis event has been approved by the NCBFAA Educational Institute (NEI) for *3 points towards maintenance of the U.S. CCS designation.
X-ALT-DESC;FMTTYPE=text/html:<div>Pacific Customs Brokers is offering a seminar on U.S. Customs Compliance. The seminar will focus on compliance and regulations of goods imported/exported into the USA. This is a great opportunity for businesses with newly hired logistics staff to receive cost-effective training and/or refresh their awareness in the transportation industry.&nbsp\;</div>\n\n<div>&nbsp\;</div>\n\n<div>*5 points towards maintenance of the CCS/CTCS designation(s) will be awarded by the Canadian Society of Customs Brokers (CSCB).&nbsp\;</div>\n\n<div>&nbsp\;</div>\n\n<div>This event has been approved by the NCBFAA Educational Institute (NEI) for *3 points towards maintenance of the U.S. CCS designation.&nbsp\;</div>\n
LOCATION:Pacific Customs Brokers - Seminar Room 101-17637 1st Avenue\, Surrey\, BC
UID:e.749.2707
SEQUENCE:3
DTSTAMP:20260425T164423Z
URL:https://business.swrbot.com/events/details/seminar-u-s-customs-compliance-09-04-2014-2707
END:VEVENT

END:VCALENDAR
