BEGIN:VCALENDAR
VERSION:2.0
PRODID:-//ChamberMaster//Event Calendar 2.0//EN
METHOD:PUBLISH
X-PUBLISHED-TTL:P3D
REFRESH-INTERVAL:P3D
CALSCALE:GREGORIAN
BEGIN:VEVENT
DTSTART:20150312T160000Z
DTEND:20150312T223000Z
X-MICROSOFT-CDO-ALLDAYEVENT:FALSE
SUMMARY:Seminar: U.S. Trade Compliance Explained
DESCRIPTION:Importing and exporting commercial goods into and out of the United States can be a complex endeavour. It requires a good understanding of various U.S. Customs and Border Protection (CBP) and other government agency (OGA) regulations. In this full-day seminar (half customs compliance and half customs audit) we will focus on the differences between voluntary and enforced compliance\, the definition and expectation of "reasonable care"\, the potential monetary risks of non-compliance\, required documentation and more. Throughout the day\, you will learn the importance of complying with customs regulations and what you can do to assure that you meet all of the requirements governing the movement of commercial goods. Whether you are importing or exporting as a resident or Non-Resident Importer (NRI)\, you should be aware that at some point your business is likely to be selected for a customs audit thus making it imperative that you are in control of your business' customs process.
X-ALT-DESC;FMTTYPE=text/html:<p class="MsoNormal"><span style="font-family:&quot\;Calibri&quot\;\,&quot\;sans-serif&quot\;\;mso-ascii-theme-font:\nminor-latin\;mso-hansi-theme-font:minor-latin\;mso-bidi-font-weight:bold">Importing and exporting commercial goods into and out of the United States can be a complex endeavour. It requires a good understanding of various U.S. Customs and Border Protection (CBP) and other government agency (OGA) regulations. In this full-day seminar (half customs compliance and half customs audit) we will focus on the differences between voluntary and enforced compliance\, the definition and expectation of &ldquo\;reasonable care&rdquo\;\, the potential monetary risks of non-compliance\, required documentation and more. Throughout the day\, you will learn the importance of complying with customs regulations and what you can do to assure that you meet all of the requirements governing the movement of commercial goods. Whether you are importing or exporting as a resident or Non-Resident Importer (NRI)\, you should be aware that at some point your business is likely to be selected for a customs audit thus making it imperative that you are in control of your business&rsquo\; customs process.</span><span style="font-family:&quot\;Calibri&quot\;\,&quot\;sans-serif&quot\;\;mso-ascii-theme-font:minor-latin\;\nmso-hansi-theme-font:minor-latin"><o:p></o:p></span></p>\n
LOCATION:UBC Robson Square - HSBC Hall (C680) 800 Robson Street\, Vancouver\, BC
UID:e.749.3302
SEQUENCE:3
DTSTAMP:20260423T100543Z
URL:https://business.swrbot.com/events/details/seminar-u-s-trade-compliance-explained-03-12-2015-3302
END:VEVENT

END:VCALENDAR
