BEGIN:VCALENDAR
VERSION:2.0
PRODID:-//ChamberMaster//Event Calendar 2.0//EN
METHOD:PUBLISH
X-PUBLISHED-TTL:P3D
REFRESH-INTERVAL:P3D
CALSCALE:GREGORIAN
BEGIN:VEVENT
DTSTART;VALUE=DATE:20090918
DTEND;VALUE=DATE:20090919
TRANSP:TRANSPARENT
X-MICROSOFT-CDO-ALLDAYEVENT:TRUE
SUMMARY:Sept. 18\, '09 - Coffee With Jamie
DESCRIPTION:
X-ALT-DESC;FMTTYPE=text/html:
LOCATION:
UID:e.749.1541
SEQUENCE:3
DTSTAMP:20260423T101327Z
URL:https://business.swrbot.com/events/details/sept-18-09-coffee-with-jamie-09-18-2009-1541
END:VEVENT

END:VCALENDAR
