BEGIN:VCALENDAR
VERSION:2.0
PRODID:-//ChamberMaster//Event Calendar 2.0//EN
METHOD:PUBLISH
X-PUBLISHED-TTL:P3D
REFRESH-INTERVAL:P3D
CALSCALE:GREGORIAN
BEGIN:VEVENT
DTSTART;VALUE=DATE:20090925
DTEND;VALUE=DATE:20090926
TRANSP:TRANSPARENT
X-MICROSOFT-CDO-ALLDAYEVENT:TRUE
SUMMARY:Sept. 25\, '09 - Kash Heed Breakfast
DESCRIPTION:
X-ALT-DESC;FMTTYPE=text/html:
LOCATION:
UID:e.749.1544
SEQUENCE:3
DTSTAMP:20260423T100828Z
URL:https://business.swrbot.com/events/details/sept-25-09-kash-heed-breakfast-09-25-2009-1544
END:VEVENT

END:VCALENDAR
