BEGIN:VCALENDAR
VERSION:2.0
PRODID:-//ChamberMaster//Event Calendar 2.0//EN
METHOD:PUBLISH
X-PUBLISHED-TTL:P3D
REFRESH-INTERVAL:P3D
CALSCALE:GREGORIAN
BEGIN:VEVENT
DTSTART:20150901T210000Z
DTEND:20150901T230000Z
X-MICROSOFT-CDO-ALLDAYEVENT:FALSE
SUMMARY:September 1\, 2015 - SBOT/PMV Networking Inlet Tour
DESCRIPTION:Enjoy a tour of the busy Burrard Inlet aboard a chartered vessel to learn more about the operations of the port to ensure safe and efficient trade of Canada's import and export goods.\n\n\n\nThroughout the tour\, guests will have an up-close view of Port Metro Vancouver's major marine terminals operating in Burrard Inlet\, from the Lions Gate Bridge through to the Ironworkers Memorial Bridge. Narration will be provided about the port's five business sectors (four of which operate in Burrard Inlet) and key infrastructure and landmarks along the way. You will also hear about the port's air\, land\, and water protection initiatives and how we continue to work as leaders in port sustainability.
X-ALT-DESC;FMTTYPE=text/html:Enjoy a tour of the busy Burrard Inlet aboard a chartered vessel to learn more about the operations of the port to ensure safe and efficient trade of Canada&#39\;s import and export goods.<br />\n<br />\nThroughout the tour\, guests will have an up-close view of Port Metro Vancouver&#39\;s major marine terminals operating in Burrard Inlet\, from the Lions Gate Bridge through to the Ironworkers Memorial Bridge. Narration will be provided about the port&#39\;s five business sectors (four of which operate in Burrard Inlet) and key infrastructure and landmarks along the way. You will also hear about the port&#39\;s air\, land\, and water protection initiatives and how we continue to work as leaders in port sustainability.
LOCATION:Pick-up and drop-off is at the Westin Bayshore Marina (1601 Bayshore Drive\, Vancouver)
UID:e.749.3634
SEQUENCE:3
DTSTAMP:20260423T200417Z
URL:https://business.swrbot.com/events/details/september-1-2015-sbot-pmv-networking-inlet-tour-09-01-2015-3634
END:VEVENT

END:VCALENDAR
