BEGIN:VCALENDAR
VERSION:2.0
PRODID:-//ChamberMaster//Event Calendar 2.0//EN
METHOD:PUBLISH
X-PUBLISHED-TTL:P3D
REFRESH-INTERVAL:P3D
CALSCALE:GREGORIAN
BEGIN:VEVENT
DTSTART:20190910T183000Z
DTEND:20190910T203000Z
X-MICROSOFT-CDO-ALLDAYEVENT:FALSE
SUMMARY:September 10\, 2019 - The Global Future of Canadian Energy: Energy Week Lunch with Athabasca Oil Corp CEO Rob Broen
DESCRIPTION:In partnership with Canadian Association of Petroleum Producers\, we invite you to attend a national Energy Week event. This event will discuss the roles Canadian energy products play in the global economy and meeting growing global energy needs.\n\n\n\nThe event will focus on two major topics. The first is the role our energy products can play in addressing energy poverty in many developing countries. The second focus is an exploration of how Canadian producers can meet this global demand while playing a leadership role in reducing global emissions and fostering inclusive growth in Canada. The conversation will focus on the technologies and practices that can help Canadian energy producers continue their decade-long success in lowering emissions per barrel\, and the export strategies needed to support the sector.\n\n\n\np.p1 {margin: 0.0px 0.0px 0.0px 0.0px\; font: 12.0px 'Univers LT Std'\; min-height: 14.0px}\np.p2 {margin: 0.0px 0.0px 0.0px 0.0px\; line-height: 12.1px\; font: 11.5px 'Univers LT Std'\; color: #2d2829}\nspan.s1 {font: 12.0px 'Univers LT Std'\; color: #000000}\n\nPlus the Surrey Board of Trade will make a special presentation on the Surrey Workforce Strategy it has been developing with BC Ministry of Social Development and Poverty Reduction funding.The Surrey Workforce Strategy sets out to determine Surrey's current and anticipated labour market demand\, supply and gaps for the next ten years.
X-ALT-DESC;FMTTYPE=text/html:<span style="font-size:14px\;"><span style="font-family:arial\;">In partnership with Canadian Association of Petroleum Producers\, we invite you to attend a national Energy Week event. This event will discuss the roles Canadian energy products play in the global economy and meeting growing global energy needs.<br />\n<br />\nThe event will focus on two major topics. The first is the role our energy products can play in addressing energy poverty in many developing countries. The second focus is an exploration of how Canadian producers can meet this global demand while playing a leadership role in reducing global emissions and fostering inclusive growth in Canada. The conversation will focus on the technologies and practices that can help Canadian energy producers continue their decade-long success in lowering emissions per barrel\, and the export strategies needed to support the sector.</span></span><br />\n<br />\n<style type="text/css">p.p1 {margin: 0.0px 0.0px 0.0px 0.0px\; font: 12.0px 'Univers LT Std'\; min-height: 14.0px}\np.p2 {margin: 0.0px 0.0px 0.0px 0.0px\; line-height: 12.1px\; font: 11.5px 'Univers LT Std'\; color: #2d2829}\nspan.s1 {font: 12.0px 'Univers LT Std'\; color: #000000}\n</style>\n<p class="p1"><span style="font-size:14px\;"><span style="font-family:arial\;"><span style="color: rgb(45\, 40\, 41)\;">Plus the Surrey Board of Trade will make a special presentation on the <a href="https://businessinsurrey.com/business/surrey-labour-market-priorities/">Surrey Workforce Strategy</a> it has been developing with BC Ministry of Social Development and Poverty Reduction funding.The Surrey Workforce Strategy sets out to determine Surrey&rsquo\;s current and anticipated labour market demand\, supply and gaps for the next ten years.&nbsp\;</span></span></span></p>\n
LOCATION:Sheraton Vancouver Guildford Hotel 15269 104 Avenue\, Surrey
UID:e.749.10543
SEQUENCE:3
DTSTAMP:20260420T140840Z
URL:https://business.swrbot.com/events/details/september-10-2019-the-global-future-of-canadian-energy-energy-week-lunch-with-athabasca-oil-corp-ceo-rob-broen-09-10-2019-10543
END:VEVENT

END:VCALENDAR
