BEGIN:VCALENDAR
VERSION:2.0
PRODID:-//ChamberMaster//Event Calendar 2.0//EN
METHOD:PUBLISH
X-PUBLISHED-TTL:P3D
REFRESH-INTERVAL:P3D
CALSCALE:GREGORIAN
BEGIN:VEVENT
DTSTART:20140911T183000Z
DTEND:20140911T203000Z
X-MICROSOFT-CDO-ALLDAYEVENT:FALSE
SUMMARY:September 11\, 2014 - Business and Environment Achievement Award Lunch
DESCRIPTION:8th Annual Environment and Business Awards\n\nMC: Robert Levy\, CKNW\n\n\n\nFeaturing:\n\n\n\n  Waste Management Solutions Panel\n\n  MMBC\, Bylaw 280\, Organics Waste\n\n        Mayor Derek Corrigan\n\n        Vice Chair\, Zero Waste Committee\, Metro Vancouver\n\n        Neil Hastie\n\n        StewardChoice Enterprises Inc.\n\n        Candace Le Roy\n\n        Director\, SFU Sustainability Office\n\n        Genevieve Blondin\n\n        Growing City\n\n        Nicole Stefenelli\n\n        Urban Impact\n\n  Councillor Bruce Hayne\n\n  Green Surrey Program\n\n  Awards will be presented in 3 categories:\n\n        Small Sized Business\n\n        Medium Sized Business\n\n        Large Sized Business
X-ALT-DESC;FMTTYPE=text/html:<strong>8th Annual Environment and Business Awards</strong><br />\nMC: Robert Levy\, CKNW<br />\n<br />\nFeaturing:<br />\n<br />\n&bull\; <strong>Waste Management Solutions Panel</strong><br />\n&nbsp\; MMBC\, Bylaw 280\, Organics Waste<br />\n&nbsp\;&nbsp\;&nbsp\;&nbsp\;&nbsp\;&nbsp\;&nbsp\;<strong>&nbsp\;Mayor Derek Corrigan</strong><br />\n&nbsp\;&nbsp\;&nbsp\;&nbsp\;&nbsp\;&nbsp\;&nbsp\; Vice Chair\, Zero Waste Committee\, Metro Vancouver<br />\n&nbsp\;&nbsp\;&nbsp\;&nbsp\;&nbsp\;&nbsp\;&nbsp\;&nbsp\;<strong>Neil Hastie</strong><br />\n&nbsp\;&nbsp\; &nbsp\;&nbsp\;&nbsp\;&nbsp\; StewardChoice Enterprises Inc.<br />\n&nbsp\;&nbsp\;&nbsp\;&nbsp\;&nbsp\;&nbsp\;&nbsp\;&nbsp\;<strong>Candace Le Roy</strong><br />\n&nbsp\;&nbsp\;&nbsp\;&nbsp\;&nbsp\;&nbsp\;&nbsp\;&nbsp\;Director\, SFU Sustainability Office<br />\n&nbsp\;&nbsp\;&nbsp\;&nbsp\;&nbsp\;&nbsp\;&nbsp\;&nbsp\;<strong>Genevieve Blondin</strong><br />\n&nbsp\;&nbsp\;&nbsp\;&nbsp\;&nbsp\;&nbsp\;&nbsp\;&nbsp\;Growing City<br />\n<strong>&nbsp\;&nbsp\;&nbsp\;&nbsp\;&nbsp\;&nbsp\;&nbsp\; Nicole Stefenelli</strong><br />\n&nbsp\;&nbsp\;&nbsp\;&nbsp\;&nbsp\;&nbsp\;&nbsp\; Urban Impact<br />\n&bull\;<strong> Councillor Bruce Hayne</strong><br />\n&nbsp\; Green Surrey Program<br />\n&bull\; <strong>Awards will be presented in 3 categories:</strong><br />\n&nbsp\;&nbsp\;&nbsp\;&nbsp\;&nbsp\;&nbsp\;&nbsp\;&nbsp\;Small Sized Business<br />\n&nbsp\;&nbsp\;&nbsp\;&nbsp\;&nbsp\;&nbsp\;&nbsp\;&nbsp\;Medium Sized Business<br />\n&nbsp\;&nbsp\;&nbsp\;&nbsp\;&nbsp\;&nbsp\;&nbsp\; Large Sized Business<br />\n<br />\n<br />\n&nbsp\;
LOCATION:Eaglequest Golf Course 7778-152 Street\, Surrey\, BC
UID:e.749.2630
SEQUENCE:3
DTSTAMP:20260425T164125Z
URL:https://business.swrbot.com/events/details/september-11-2014-business-and-environment-achievement-award-lunch-09-11-2014-2630
END:VEVENT

END:VCALENDAR
