BEGIN:VCALENDAR
VERSION:2.0
PRODID:-//ChamberMaster//Event Calendar 2.0//EN
METHOD:PUBLISH
X-PUBLISHED-TTL:P3D
REFRESH-INTERVAL:P3D
CALSCALE:GREGORIAN
BEGIN:VEVENT
DTSTART:20170912T150000Z
DTEND:20170912T170000Z
X-MICROSOFT-CDO-ALLDAYEVENT:FALSE
SUMMARY:September 12\, 2017 - Women In Biz Workshop - 7 Success Tips for Women Entrepreneurs to Maximize Growth\, Sales & Profit!
DESCRIPTION:7 Success Tips for Women Entrepreneurs to Maximize Growth\, Sales & Profit!\n\n\n\nOften female leaders face challenges in the workforce/businesses that are unique.\n\nCome join us for tips\, education and fun as you learn key items to assist you in learning how to overcome these challenges.\n\n \n\nSome things you will learn:\n\n	If you don't do what you have never done you will not get what you never had. Learn about a system called the 4 C's that will assist you in achieving more.\n	Learn about Heart Cohesion & Foundational Beliefs.\n	Learn the most important formula for your life - ITAR\n	Powerful Networking   WIN strategy!\n	The mindset of highly successful business owners.\n	Power of your words and alignment.\n	Creating Success in any area of your life and business!\n\nThis event if full on education that will assist you to grow personally and professionally.\n\n\n\nBy attending this event you will also receive a GIFT worth $1498.00! Reason for this GIFT is the special speaker wants you to achieve more success than you ever thought possible  This GIFT will allow this to happen for yourself.\n\n\n\nThis workshop is facilitated Cheryl Bishop:\n\n\n\nCHERYL BISHOP is a heart-centered speaker\, author and Heart Connections Manager at Make Your Mark Training and Consulting Inc. Make Your Mark is the Ultimate Business Success System...with SOUL\; a 7-Step System to six figures in profits or more\, in 12 months or less.\n\n\n\nCheryl has assisted CEO\, Colin Sprake\, in building Make Your Mark Training since its beginning in 2009. She has been a huge support in creating momentum and growing the company's reputation and following. Cheryl embodies Make Your Mark's core values of trust\, respect for the individual\, unconditional gratitude\, integrity\, and openness to possibilities with commitment to excellence.\n\n\n\nCheryl was in the banking industry for 16 years. She also had a Skincare and Fitness business where she appeared in local media and she was also involved in the direct selling industry for 14 years. She is devoted and passionate about helping people achieve more in life and in business\, empowering them to do more than they ever thought possible. She is an author of "Entrepreneur Success Stories" which she co-authored with 19 of Make Your Mark's students and is currently writing another book on how words can affect your business.\n\n\n\nShe has spoken on stages like: Mompreneur Canada\, Toronto Entrepreneur Conference\, Froc-alicious by Design\, Calgary Residential Rental Association\, Canadian Mortgage Broker of B.C.\, Holistic Chamber of Commerce\, and many more.\n\n\n\nYou will often hear Cheryl say\, "We are all a piece of a puzzle and somehow we all fit together to create that beautiful picture."
X-ALT-DESC;FMTTYPE=text/html:<strong>7 Success Tips for Women Entrepreneurs to Maximize Growth\, Sales &amp\; Profit!</strong><br />\n<br />\nOften female leaders face challenges in the workforce/businesses that are unique.<br />\nCome join us for tips\, education and fun as you learn key items to assist you in learning how to overcome these challenges.<br />\n&nbsp\;<br />\nSome things you will learn:\n<ol>\n	<li style="margin-left:0cm\;">If you don&rsquo\;t do what you have never done you will not get what you never had. Learn about a system called the 4 C&rsquo\;s that will assist you in achieving more.</li>\n	<li style="margin-left:0cm\;">Learn about Heart Cohesion &amp\; Foundational Beliefs.</li>\n	<li style="margin-left:0cm\;">Learn the most important formula for your life - ITAR</li>\n	<li style="margin-left:0cm\;">Powerful Networking &ndash\; WIN strategy!</li>\n	<li style="margin-left:0cm\;">The mindset of highly successful business owners.</li>\n	<li style="margin-left:0cm\;">Power of your words and alignment.</li>\n	<li style="margin-left:0cm\;">Creating Success in any area of your life and business!</li>\n</ol>\nThis event if full on education that will assist you to grow personally and professionally.<br />\n<br />\nBy attending this event you will also receive a GIFT worth $1498.00! Reason for this GIFT is the special speaker wants you to achieve more success than you ever thought possible&hellip\; This GIFT will allow this to happen for yourself.<br />\n<br />\nThis workshop is facilitated Cheryl Bishop:<br />\n<br />\nCHERYL BISHOP is a heart-centered speaker\, author and Heart Connections Manager at Make Your Mark Training and Consulting Inc. Make Your Mark is the Ultimate Business Success System...with SOUL\; a 7-Step System to six figures in profits or more\, in 12 months or less.<br />\n<br />\nCheryl has assisted CEO\, Colin Sprake\, in building Make Your Mark Training since its beginning in 2009. She has been a huge support in creating momentum and growing the company&rsquo\;s reputation and following. Cheryl embodies Make Your Mark&rsquo\;s core values of trust\, respect for the individual\, unconditional gratitude\, integrity\, and openness to possibilities with commitment to excellence.<br />\n<br />\nCheryl was in the banking industry for 16 years. She also had a Skincare and Fitness business where she appeared in local media and she was also involved in the direct selling industry for 14 years. She is devoted and passionate about helping people achieve more in life and in business\, empowering them to do more than they ever thought possible. She is an author of &ldquo\;Entrepreneur Success Stories&rdquo\; which she co-authored with 19 of Make Your Mark&rsquo\;s students and is currently writing another book on how words can affect your business.<br />\n<br />\nShe has spoken on stages like: Mompreneur Canada\, Toronto Entrepreneur Conference\, Froc-alicious by Design\, Calgary Residential Rental Association\, Canadian Mortgage Broker of B.C.\, Holistic Chamber of Commerce\, and many more.<br />\n<br />\nYou will often hear Cheryl say\, &ldquo\;We are all a piece of a puzzle and somehow we all fit together to create that beautiful picture.&rdquo\;
LOCATION:101\, 14439 104 Ave\, Surrey\, BC V3R 1M
UID:e.749.5397
SEQUENCE:3
DTSTAMP:20260421T204119Z
URL:https://business.swrbot.com/events/details/september-12-2017-women-in-biz-workshop-7-success-tips-for-women-entrepreneurs-to-maximize-growth-sales-profit-09-12-2017-5397
END:VEVENT

END:VCALENDAR
