BEGIN:VCALENDAR
VERSION:2.0
PRODID:-//ChamberMaster//Event Calendar 2.0//EN
METHOD:PUBLISH
X-PUBLISHED-TTL:P3D
REFRESH-INTERVAL:P3D
CALSCALE:GREGORIAN
BEGIN:VEVENT
DTSTART:20180913T003000Z
DTEND:20180913T023000Z
X-MICROSOFT-CDO-ALLDAYEVENT:FALSE
SUMMARY:September 12\, 2018 - Business to Business Networking Reception hosted by PwC
DESCRIPTION:Hosted by PwC!\n\n \nJoin the Surrey Board of Trade for an evening of networking and fun at one of the world's top professional services firms\, PwC.  This is a great opportunity to make new business contacts in the area\, while also enjoying drinks\, appetizers\, prizes and fantastic views of the Fraser Valley.  \n\nPwC Canada's Surrey office has been serving the Fraser Valley community for over 25 years. Their team takes the time to understand your business needs\, while helping you to tackle complex challenges in the market. PwC's business advisors help clients pursue critical opportunities\, no matter the size or industry. Together\, PwC can help you turn your vision into a reality.  Find out more about the Fraser Valley team. \n\nPwC is a professional services firm whose purpose is to build trust in society and solve important problems. More than 6\,700 partners and staff in offices across the country are committed to delivering quality in assurance\, tax\, consulting and deals services. PwC Canada is a member of the PwC network of firms with more than 236\,235 people in 158 countries.  www.pwc.com/ca.
X-ALT-DESC;FMTTYPE=text/html:<span style="font-size:14px\;"><span style="font-family:arial\;"><span style="box-sizing: content-box\; font-weight: bolder\; bottom: auto\; clear: none\; color: rgb(10\, 10\, 10)\; content: normal\; direction: inherit\; empty-cells: show\; font-variant-numeric: inherit\; font-variant-east-asian: inherit\; font-stretch: inherit\; left: auto\; margin: 0px\; max-height: none\; max-width: none\; min-height: initial\; min-width: initial\; opacity: 1\; outline-offset: 0px\; overflow: visible\; padding: 0px\; position: static\; resize: none\; right: auto\; table-layout: auto\; text-overflow: clip\; top: auto\; vertical-align: baseline\; visibility: inherit\; word-break: inherit\; word-wrap: inherit\; z-index: auto\; background-image: none\; background-position: initial\; background-size: initial\; background-repeat: initial\; background-attachment: initial\; background-origin: initial\; background-clip: initial\; border: none\; border-collapse: separate\; border-radius: 0px\; height: auto\; width: auto\; box-shadow: none\; line-height: 1.6 !important\;">Hosted by PwC!</span></span></span><br style="box-sizing: content-box\; bottom: auto\; clear: none\; color: rgb(10\, 10\, 10)\; content: normal\; direction: inherit\; display: inline\; empty-cells: show\; float: none\; font-variant-numeric: inherit\; font-variant-east-asian: inherit\; font-stretch: inherit\; font-size: 16px\; font-family: Roboto\, Univers\, &quot\;Helvetica Neue&quot\;\, Helvetica\, Arial\, sans-serif\; left: auto\; margin: 0px\; max-height: none\; max-width: none\; min-height: initial\; min-width: initial\; opacity: 1\; outline-offset: 0px\; overflow: visible\; padding: 0px\; position: static\; resize: none\; right: auto\; table-layout: auto\; text-overflow: clip\; top: auto\; vertical-align: baseline\; visibility: inherit\; word-break: inherit\; word-wrap: inherit\; z-index: auto\; background-image: none\; background-position: initial\; background-size: initial\; background-repeat: initial\; background-attachment: initial\; background-origin: initial\; background-clip: initial\; border: none\; border-collapse: separate\; border-radius: 0px\; height: auto\; width: auto\; line-height: 1.6 !important\;" />\n&nbsp\;\n<p style="color: rgb(80\, 0\, 80)\; font-family: arial\, sans-serif\; font-size: 12.8px\; box-sizing: inherit\; line-height: 1.6\; margin: 0px 0px 1rem\; padding: 0px\;"><font color="#000000" face="georgia\, serif"><span style="font-size: 16px\;">Join the Surrey Board of Trade for an evening of networking and fun at one of the world&#39\;s top professional services firms\, PwC.&nbsp\;&nbsp\;</span><span style="font-size: 16px\;">This is a great opportunity to make new business contacts in the area\, while also&nbsp\;</span><span style="font-size: 16px\;">enjoying&nbsp\;drinks\, appetizers\, prizes and fantastic views of the Fraser Valley.&nbsp\;&nbsp\;</span></font></p>\n\n<p style="color: rgb(80\, 0\, 80)\; font-family: arial\, sans-serif\; box-sizing: inherit\; line-height: 1.6\; margin: 0px 0px 1rem\; padding: 0px\; font-size: 16px\;"><span style="font-family: georgia\, serif\; font-size: 15.988px\; letter-spacing: 0.063952px\;"><font color="#000000"><span style="font-size: 16px\; letter-spacing: normal\;">PwC Canada&#39\;s Surrey office has been serving the Fraser Valley community for over 25 years. Their team takes the time&nbsp\;</span>to understand your business needs\, while helping you to tackle complex challenges in the market. PwC&#39\;s business advisors help clients pursue critical opportunities\, no matter the size or industry. Together\, PwC can help you turn your vision into a reality.</font></span><span style="font-family: georgia\, serif\; color: rgb(64\, 64\, 65)\; font-size: 15.988px\; letter-spacing: 0.063952px\;">&nbsp\;<a data-saferedirecturl="https://www.google.com/url?hl=en&amp\;q=https://www.pwc.com/ca/en/about-us/our-organization/office-location/fraser-valley.html&amp\;source=gmail&amp\;ust=1531421048833000&amp\;usg=AFQjCNFjSaogmxIfEIewGJaUdrmZ6kuMQA" href="https://www.pwc.com/ca/en/about-us/our-organization/office-location/fraser-valley.html" style="color: rgb(17\, 85\, 204)\;" target="_blank">&nbsp\;Find out more about the Fraser Valley team.&nbsp\;</a></span></p>\n\n<p style="color: rgb(80\, 0\, 80)\; font-family: arial\, sans-serif\; box-sizing: inherit\; line-height: 1.6\; margin: 0px 0px 1rem\; padding: 0px\; font-size: 16px\;"><i style="font-size: 12.8px\;"><span style="color: rgb(0\, 0\, 0)\; font-family: georgia\, serif\; letter-spacing: 0.063952px\;">PwC is a professional services firm whose purpose is to build trust in society and solve important problems. More than 6\,700 partners and staff in offices across the country are committed to delivering quality in assurance\, tax\, consulting and deals services.</span><span style="color: rgb(0\, 0\, 0)\; font-family: georgia\, serif\; letter-spacing: 0.063952px\;">&nbsp\;</span><span style="color: rgb(0\, 0\, 0)\; font-family: georgia\, serif\; letter-spacing: 0.063952px\;">PwC Canada is a member of the PwC network of firms with more than 236\,235 people in 158 countries.&nbsp\;&nbsp\;</span><a data-saferedirecturl="https://www.google.com/url?hl=en&amp\;q=https://www.pwc.com/ca/en.html&amp\;source=gmail&amp\;ust=1531421048833000&amp\;usg=AFQjCNEkj90P8XFW854CI5dVTHoCvoo7WQ" href="https://www.pwc.com/ca/en.html" style="color: rgb(17\, 85\, 204)\; font-family: georgia\, serif\; box-sizing: border-box\; padding: 0px\; margin: 0px\; text-decoration-line: none\; outline: 0px\; border-width: 0px 0px 1px\; border-top-style: initial\; border-right-style: initial\; border-bottom-style: solid\; border-left-style: initial\; border-top-color: initial\; border-right-color: initial\; border-bottom-color: rgb(64\, 64\, 65)\; border-left-color: initial\; vertical-align: baseline\; letter-spacing: 0.063952px\;" target="_blank">www.pwc.com/ca</a><span style="color: rgb(0\, 0\, 0)\; font-family: georgia\, serif\; letter-spacing: 0.063952px\;">.</span><span style="color: rgb(0\, 0\, 0)\; font-family: georgia\, serif\;">&nbsp\;</span></i>&nbsp\;</p>\n<br style="box-sizing: content-box\; bottom: auto\; clear: none\; color: rgb(34\, 34\, 34)\; content: normal\; direction: inherit\; display: inline\; empty-cells: show\; float: none\; font-variant-numeric: inherit\; font-variant-east-asian: inherit\; font-stretch: inherit\; font-size: 12px\; font-family: arial\; left: auto\; margin: 0px\; max-height: none\; max-width: none\; min-height: initial\; min-width: initial\; opacity: 1\; outline-offset: 0px\; overflow: visible\; padding: 0px\; position: static\; resize: none\; right: auto\; table-layout: auto\; text-overflow: clip\; top: auto\; vertical-align: baseline\; visibility: inherit\; word-break: inherit\; word-wrap: inherit\; z-index: auto\; background-image: none\; background-position: initial\; background-size: initial\; background-repeat: initial\; background-attachment: initial\; background-origin: initial\; background-clip: initial\; border: none\; border-collapse: separate\; border-radius: 0px\; height: auto\; width: auto\; line-height: 1.6 !important\;" />\n<br />\n&nbsp\;\n<p style="box-sizing: border-box\; padding: 0px\; margin: 0px 0px 10px\; letter-spacing: 0.004em\; border: 0px\; vertical-align: baseline\; line-height: 1.5em\; font-size: 1.142rem\; color: rgb(64\, 64\, 65)\; font-family: Arial\, Helvetica\, sans-serif\;">&nbsp\;</p>\n
LOCATION:13450 102nd Avenue\, Suite 1400 Surrey LEVEL 14 at Central City
UID:e.749.9421
SEQUENCE:3
DTSTAMP:20260421T054444Z
URL:https://business.swrbot.com/events/details/september-12-2018-business-to-business-networking-reception-hosted-by-pwc-09-12-2018-9421
END:VEVENT

END:VCALENDAR
