BEGIN:VCALENDAR
VERSION:2.0
PRODID:-//ChamberMaster//Event Calendar 2.0//EN
METHOD:PUBLISH
X-PUBLISHED-TTL:P3D
REFRESH-INTERVAL:P3D
CALSCALE:GREGORIAN
BEGIN:VEVENT
DTSTART:20180912T143000Z
DTEND:20180912T163000Z
X-MICROSOFT-CDO-ALLDAYEVENT:FALSE
SUMMARY:September 12\, 2018 - Proportional Representation and the Economy - What it means for spending and decision-making
DESCRIPTION:British Columbians will have to vote in the Fall on whether to keep the current electoral system of first-past-the-post (FPTP) or to move to one of three types of proportional representation.\n\n \n\nThe BC government is proceeding with a Referendum on Electoral Reform for provincial elections. The referendum voting period will be between October 1 to November 30\, 2018. Businesses and residents are seeking clarity on this issue.\n\n \n\nParticipants will learn:\n\n	Why this is important to business\n	The choices of voting systems being proposed\n	Will it improve democracy and enhance economic decision making for BC communities\n\nAttend the Surrey Hot Topic Dialogue on the proposed voting system for the province of BC. \n\n \n\nIn preparation for the Surrey Board of Trade Hot Topic Dialogue\, we ask for two minutes of your time to complete our survey.\n\n \nPanelists: \n\n\n	Seth Klein - Canadian Centre for Policy Alternatives\n	Suzanne Anton - No BC Proportional Representation \n	Dr. Anke Kessler   Simon Fraser University
X-ALT-DESC;FMTTYPE=text/html:<span style="font-size:16px\;"><strong>British Columbians will have to vote in the Fall on whether to keep the current electoral system of first-past-the-post (FPTP) or to move to one of three types of proportional representation.</strong></span><br />\n&nbsp\;<br />\nThe BC government is proceeding with a Referendum on Electoral Reform for provincial elections. The referendum voting period will be between October 1 to November 30\,&nbsp\;2018. Businesses and residents are seeking clarity on this issue.<br />\n&nbsp\;<br />\n<strong>Participants will learn:</strong>\n<ol>\n	<li>Why this is important to business</li>\n	<li>The choices of voting systems being proposed</li>\n	<li>Will it improve democracy and enhance economic decision making for BC communities</li>\n</ol>\nAttend the Surrey Hot Topic Dialogue on the proposed voting system for the province of BC.&nbsp\;<br />\n&nbsp\;<br />\nIn preparation for the Surrey Board of Trade Hot Topic Dialogue\, we ask for two minutes of your time to complete our <a href="https://www.surveymonkey.com/r/SBOT-Survey-PRvFPTP" target="_blank">survey</a>.<br />\n&nbsp\;\n<div><strong>Panelists:&nbsp\;</strong></div>\n\n<ul>\n	<li>Seth Klein - Canadian Centre for Policy Alternatives</li>\n	<li>Suzanne Anton - No BC Proportional Representation&nbsp\;</li>\n	<li>Dr. Anke Kessler &ndash\; Simon Fraser University</li>\n</ul>\n
LOCATION:Eaglequest Golf Course 7778 152 Street\, Surrey\, V3S 3M4
UID:e.749.9600
SEQUENCE:3
DTSTAMP:20260421T054541Z
URL:https://business.swrbot.com/events/details/september-12-2018-proportional-representation-and-the-economy-what-it-means-for-spending-and-decision-making-09-12-2018-9600
END:VEVENT

END:VCALENDAR
