BEGIN:VCALENDAR
VERSION:2.0
PRODID:-//ChamberMaster//Event Calendar 2.0//EN
METHOD:PUBLISH
X-PUBLISHED-TTL:P3D
REFRESH-INTERVAL:P3D
CALSCALE:GREGORIAN
BEGIN:VEVENT
DTSTART:20190913T143000Z
DTEND:20190913T163000Z
X-MICROSOFT-CDO-ALLDAYEVENT:FALSE
SUMMARY:September 13\, 2019 - Surrey Entrepreneur Showcase: The Entrepreneurial Journey
DESCRIPTION:Join the Surrey Board of Trade for insightful conversations with Surrey entrepreneurs and industry experts at the Surrey Entrepreneur Morning Showcase\, a series of events featuring Surrey business leaders in different industries and business sizes.\n\nSurrey has a vibrant entrepreneurship community. Let's learn from them.\n\nPanelists:\n1. Marissa Bergeron - Founder and CEO\, Eat the Dishes\n\n    Industry: Food and Service\n\n2. Dale Lutz - Co-Founder and Vice President of Development\, Safe Software\n\n    Industry: Software Management and Technology\n\n3. Ryan Moreno - Co-Founder and CEO\, The Joseph Richard Group\n\n    Industry: Food and Service\n\n \n\nFor sponsorship opportunities\, contact Rhona Doria at rhona@businessinsurrey.com.
X-ALT-DESC;FMTTYPE=text/html:<div>\n<p class="m_-9116946444324766301gmail-p1" style="color:rgb(51\,51\,51)\;font-family:sans-serif\,Arial\,Verdana\," trebuchet=""><span style="font-size:14px"><span style="font-family:arial">Join the Surrey Board of Trade for insightful conversations with Surrey entrepreneurs and industry experts at the&nbsp\;<b>Surrey Entrepreneur Morning Showcase\,&nbsp\;</b>a series of events featuring Surrey business leaders in different industries and business sizes.</span></span></p>\n\n<p class="m_-9116946444324766301gmail-p2" style="color:rgb(51\,51\,51)\;font-family:sans-serif\,Arial\,Verdana\," trebuchet=""><span style="font-size:14px"><span style="font-family:arial">Surrey has a vibrant entrepreneurship community. Let&#39\;s learn from them.</span></span></p>\n\n<p class="m_-9116946444324766301gmail-p1" style="color:rgb(51\,51\,51)\;font-family:sans-serif\,Arial\,Verdana\," trebuchet=""><span style="font-size:14px"><span style="font-family:arial"><b>Panelists:</b></span></span></p>\n<b style="font-family:arial\;color:rgb(51\,51\,51)">1. <a href="https://chambermaster.blob.core.windows.net/userfiles/UserFiles/chambers/749/File/Speakers-Biographiesrev1.pdf">Marissa Bergeron&nbsp\;</a></b><a href="https://chambermaster.blob.core.windows.net/userfiles/UserFiles/chambers/749/File/Speakers-Biographiesrev1.pdf"><span style="font-family:arial\;color:rgb(51\,51\,51)">- Founder and CEO\, Eat the Dishes</span></a><br />\n<span style="color:rgb(51\,51\,51)\;font-family:sans-serif\,Arial\,Verdana\," trebuchet="">&nbsp\; &nbsp\; Industry: Food and Service</span><br />\n<b style="font-family:arial\;color:rgb(51\,51\,51)">2. <a href="https://chambermaster.blob.core.windows.net/userfiles/UserFiles/chambers/749/File/Speakers-Biographiesrev1.pdf">Dale Lutz&nbsp\;</a></b><a href="https://chambermaster.blob.core.windows.net/userfiles/UserFiles/chambers/749/File/Speakers-Biographiesrev1.pdf"><span style="font-family:arial\;color:rgb(51\,51\,51)">-</span><b style="font-family:arial\;color:rgb(51\,51\,51)">&nbsp\;</b></a><span style="font-family:arial\;color:rgb(51\,51\,51)"><a href="https://chambermaster.blob.core.windows.net/userfiles/UserFiles/chambers/749/File/Speakers-Biographiesrev1.pdf">Co-Founder and Vice President of Development\, Safe Software</a><br />\n&nbsp\; &nbsp\; </span><span style="font-family: arial\;">Industry: Software Management and Technology</span><br />\n<b style="font-family: arial\;">3. <a href="https://chambermaster.blob.core.windows.net/userfiles/UserFiles/chambers/749/File/Speakers-Biographiesrev1.pdf">Ryan Moreno&nbsp\;</a></b><a href="https://chambermaster.blob.core.windows.net/userfiles/UserFiles/chambers/749/File/Speakers-Biographiesrev1.pdf">- Co-Founder and CEO\, The Joseph Richard Group</a><br />\n&nbsp\; &nbsp\;&nbsp\;Industry: Food and Service<br />\n&nbsp\;</div>\n\n<div>For sponsorship opportunities\, contact Rhona Doria at <a href="mailto:rhona@businessinsurrey.com" target="_blank">rhona@businessinsurrey.com</a>.</div>\n
LOCATION:Civic Hotel (13475 Central Avenue\, Surrey)
UID:e.749.10315
SEQUENCE:3
DTSTAMP:20260420T140419Z
URL:https://business.swrbot.com/events/details/september-13-2019-surrey-entrepreneur-showcase-the-entrepreneurial-journey-09-13-2019-10315
END:VEVENT

END:VCALENDAR
