BEGIN:VCALENDAR
VERSION:2.0
PRODID:-//ChamberMaster//Event Calendar 2.0//EN
METHOD:PUBLISH
X-PUBLISHED-TTL:P3D
REFRESH-INTERVAL:P3D
CALSCALE:GREGORIAN
BEGIN:VEVENT
DTSTART:20170914T183000Z
DTEND:20170914T203000Z
X-MICROSOFT-CDO-ALLDAYEVENT:FALSE
SUMMARY:September 14\, 2017 - Surrey Environment & Business Awards Lunch
DESCRIPTION:Join us for the 11th Annual Surrey Environment & Business Awards Lunch featuring Delta Mayor Lois Jackson as keynote speaker. Mayor Jackson will speak on the George Massey Tunnel Replacement Project. We will also hear from Surrey Councillor Mike Starchuk with an update on the City of Surrey's environmental initiatives.\n\n\n\nThe event also features the presentation of the 2017 Surrey Environment and Business Awards\, in the following categories:\n\n	Small Business\n	Medium Business\n	Large Business\n	Circular Economy Award\n\nThe awards are presented to Surrey Board of Trade members or Surrey-based businesses that have demonstrated exceptional dedication to environmental leadership and/or issues. The award recipients are guided by a sense of respect for the environment and demonstrate this initiative consistently. \n\n\n\nThis year's nominees are:\n\n\n\nSmall Business Category\n\nFreshtec Innovations Inc.\n\nLeading Ahead\n\nThe Eco Floor Store\n\nWest Coast Water Treatment\n\n \n\nMedium Business Category\n\nENKON Environmental Limited\n\nHoneybee Centre\n\nOrganic Grocer\n\nPowerPAD   SFU Fuel Cell Research Laboratory\n\n \n\nLarge Business Category\n\nABC Recycling\n\nBC Plant Health Care\n\nCARO Analytical Services\n\nDillon Consulting Limited\n\nFraser Surrey Docks\n\nLafarge Canada Inc.\n\nLifeLabs\n\nStericycle ULC\n\nSurrey Schools\n\nTD Bank Group\n\nTrans-Continental Textile Recycling Ltd.\n\n\n\nA Circular Economy Award will also be presented this year to one of the nominees above.
X-ALT-DESC;FMTTYPE=text/html:Join us for the 11th Annual Surrey Environment &amp\; Business Awards Lunch featuring Delta Mayor Lois Jackson as keynote speaker. Mayor Jackson will speak on the George Massey Tunnel Replacement Project. We will also hear from Surrey Councillor Mike Starchuk with an update on the City of Surrey&rsquo\;s environmental initiatives.<br />\n<br />\nThe event also features the presentation of the 2017 Surrey Environment and Business Awards\, in the following categories:\n<ol>\n	<li>Small Business</li>\n	<li>Medium Business</li>\n	<li>Large Business</li>\n	<li>Circular Economy Award</li>\n</ol>\n<span style="font-family:univers lt std 45 light\;"><span style="font-size:10.0pt\;">The awards are presented to Surrey Board&nbsp\;of Trade members or Surrey-based businesses that have demonstrated exceptional dedication to environmental leadership and/or issues. The award recipients are guided by a sense of respect for the environment and demonstrate this initiative consistently.&nbsp\;</span></span><br />\n<br />\n<span style="font-family:univers lt std 45 light\;"><span style="font-size:10.0pt\;">This year&rsquo\;s nominees are:</span></span><br />\n<br />\n<strong><span style="font-family:univers lt std 45 light\;"><span style="font-size:10.0pt\;">Small Business Category</span></span></strong><br />\n<span style="font-family:univers lt std 45 light\;"><span style="font-size:10.0pt\;">Freshtec Innovations Inc.</span></span><br />\n<span style="font-family:univers lt std 45 light\;"><span style="font-size:10.0pt\;">Leading Ahead</span></span><br />\n<span style="font-family:univers lt std 45 light\;"><span style="font-size:10.0pt\;">The Eco Floor Store</span></span><br />\n<span style="font-family:univers lt std 45 light\;"><span style="font-size:10.0pt\;">West Coast Water Treatment</span></span><br />\n&nbsp\;<br />\n<strong><span style="font-family:univers lt std 45 light\;"><span style="font-size:10.0pt\;">Medium Business Category</span></span></strong><br />\n<span style="font-family:univers lt std 45 light\;"><span style="font-size:10.0pt\;">ENKON Environmental Limited</span></span><br />\n<span style="font-family:univers lt std 45 light\;"><span style="font-size:10.0pt\;">Honeybee Centre</span></span><br />\n<span style="font-family:univers lt std 45 light\;"><span style="font-size:10.0pt\;">Organic Grocer</span></span><br />\n<span style="font-family:univers lt std 45 light\;"><span style="font-size:10.0pt\;">PowerPAD &ndash\; SFU Fuel Cell Research Laboratory</span></span><br />\n&nbsp\;<br />\n<strong><span style="font-family:univers lt std 45 light\;"><span style="font-size:10.0pt\;">Large Business Category</span></span></strong><br />\n<span style="font-family:univers lt std 45 light\;"><span style="font-size:10.0pt\;">ABC Recycling</span></span><br />\n<span style="font-family:univers lt std 45 light\;"><span style="font-size:10.0pt\;">BC Plant Health Care</span></span><br />\n<span style="font-family:univers lt std 45 light\;"><span style="font-size:10.0pt\;">CARO Analytical Services</span></span><br />\n<span style="font-family:univers lt std 45 light\;"><span style="font-size:10.0pt\;">Dillon Consulting Limited</span></span><br />\n<span style="font-family:univers lt std 45 light\;"><span style="font-size:10.0pt\;">Fraser Surrey Docks</span></span><br />\n<span style="font-family:univers lt std 45 light\;"><span style="font-size:10.0pt\;">Lafarge Canada Inc.</span></span><br />\n<span style="font-family:univers lt std 45 light\;"><span style="font-size:10.0pt\;">LifeLabs</span></span><br />\n<span style="font-family:univers lt std 45 light\;"><span style="font-size:10.0pt\;">Stericycle ULC</span></span><br />\n<span style="font-family:univers lt std 45 light\;"><span style="font-size:10.0pt\;">Surrey Schools</span></span><br />\n<span style="font-family:univers lt std 45 light\;"><span style="font-size:10.0pt\;">TD Bank Group</span></span><br />\n<span style="font-family:univers lt std 45 light\;"><span style="font-size:10.0pt\;">Trans-Continental Textile Recycling Ltd.</span></span><br />\n<br />\n<span style="font-family:univers lt std 45 light\;"><span style="font-size:10.0pt\;">A Circular Economy Award will also be presented this year to one of the nominees above.</span></span>
LOCATION:Sheraton Vancouver Guildford Hotel 15269 104 Avenue\, Surrey
UID:e.749.5200
SEQUENCE:3
DTSTAMP:20260421T203736Z
URL:https://business.swrbot.com/events/details/september-14-2017-surrey-environment-business-awards-lunch-09-14-2017-5200
END:VEVENT

END:VCALENDAR
