BEGIN:VCALENDAR
VERSION:2.0
PRODID:-//ChamberMaster//Event Calendar 2.0//EN
METHOD:PUBLISH
X-PUBLISHED-TTL:P3D
REFRESH-INTERVAL:P3D
CALSCALE:GREGORIAN
BEGIN:VEVENT
DTSTART:20150915T180000Z
DTEND:20150915T190000Z
X-MICROSOFT-CDO-ALLDAYEVENT:FALSE
SUMMARY:September 15\, 2015 - Skills Webinar
DESCRIPTION:Attend a one-hour web conference on Tuesday\, Sept. 15\, 2015 from 11am   12pm entitled "Hire Exceptional Global Professionals Under Express Entry at Zero Cost to You."\n\n \n\nOn the conference\, you will learn the surprising survey results\, but more importantly\, you will also learn how you can be quickly interviewing and hiring world-class professionals to solve your own talent gaps at zero cost to you.     \n\n \n\nTo register for this webinar\, click on the link below:\n\n \n\nTALENT GAP WEBINAR REGISTRATION\n\n \n\nFor those of you who did not take the original survey\, there's still time.  Click HERE to take the brief\, 3-minute survey.
X-ALT-DESC;FMTTYPE=text/html:<span style="font-size:12px"><span style="font-family:arial">Attend a one-hour web conference on <span class="aBn" data-term="goog_883824306" tabindex="0"><span class="aQJ">Tuesday\, Sept. 15\, 2015</span></span> from <span>11am</span> &ndash\; <span>12pm</span> entitled &ldquo\;Hire Exceptional Global Professionals Under Express Entry at Zero Cost to You.&rdquo\;<br />\n&nbsp\;<br />\nOn the conference\, you will learn the surprising survey results\, but more importantly\, you will also learn how you can be quickly interviewing and hiring world-class professionals to solve your own talent gaps at zero cost to you.&nbsp\; &nbsp\;&nbsp\;&nbsp\;<br />\n&nbsp\;<br />\nTo register for this webinar\, click on the link below:<br />\n&nbsp\;<br />\n<a href="http://info.canadajobs2015.com/employer15sept2015surreybot" target="_blank">TALENT GAP WEBINAR REGISTRATION</a><br />\n&nbsp\;<br />\nFor those of you who did not take the original survey\, there&rsquo\;s still time.&nbsp\; Click <a href="https://www.surveymonkey.com/r/TalentNeeds" target="_blank">HERE</a> to take the brief\, 3-minute survey. </span></span>
LOCATION:
UID:e.749.3649
SEQUENCE:3
DTSTAMP:20260423T200428Z
URL:https://business.swrbot.com/events/details/september-15-2015-skills-webinar-09-15-2015-3649
END:VEVENT

END:VCALENDAR
