BEGIN:VCALENDAR
VERSION:2.0
PRODID:-//ChamberMaster//Event Calendar 2.0//EN
METHOD:PUBLISH
X-PUBLISHED-TTL:P3D
REFRESH-INTERVAL:P3D
CALSCALE:GREGORIAN
BEGIN:VEVENT
DTSTART:20160915T183000Z
DTEND:20160915T203000Z
X-MICROSOFT-CDO-ALLDAYEVENT:FALSE
SUMMARY:September 15\, 2016 - Surrey Environment & Business Awards Lunch
DESCRIPTION:Join us for the 10th Annual Surrey Environment & Business Awards Lunch\, featuring keynote speaker Mike McNaney\, Vice-President\, Environment\, Fuel and Government Relations\, WestJet speaking on WestJet's Commitment to be an Environmentally Sustainable Airline and Maintain Bottom Line Results. The event also features the presentation of the 2016 Surrey Environment & Business Awards:\n\n\n	Small Business\n	Medium Business\n	Large Business\n	New Award: Circular Economy Award\n\nPlus! All attendees are entered into a draw for 2 tickets to anywhere WestJet flies!
X-ALT-DESC;FMTTYPE=text/html:Join us for the 10th Annual Surrey Environment &amp\; Business Awards Lunch\, featuring keynote speaker <strong>Mike McNaney\, Vice-President\, Environment\, Fuel and Government Relations\, WestJet </strong>speaking on<strong> </strong>WestJet&#39\;s Commitment to be an Environmentally Sustainable Airline and Maintain Bottom Line Results. The event also features the presentation of the 2016 Surrey Environment &amp\; Business Awards:\n\n<ol>\n	<li>Small Business</li>\n	<li>Medium Business</li>\n	<li>Large Business</li>\n	<li>New Award: Circular Economy Award</li>\n</ol>\n<span style="color:#006666\;"><strong>Plus! All attendees are entered into a draw for 2 tickets to anywhere WestJet flies!</strong></span>
LOCATION:Sheraton Vancouver Guildford Hotel 15269 104 Avenue\, Surrey
UID:e.749.3748
SEQUENCE:3
DTSTAMP:20260424T051744Z
URL:https://business.swrbot.com/events/details/september-15-2016-surrey-environment-business-awards-lunch-09-15-2016-3748
END:VEVENT

END:VCALENDAR
