BEGIN:VCALENDAR
VERSION:2.0
PRODID:-//ChamberMaster//Event Calendar 2.0//EN
METHOD:PUBLISH
X-PUBLISHED-TTL:P3D
REFRESH-INTERVAL:P3D
CALSCALE:GREGORIAN
BEGIN:VEVENT
DTSTART:20140917T010000Z
DTEND:20140917T030000Z
X-MICROSOFT-CDO-ALLDAYEVENT:FALSE
SUMMARY:September 16\, 2014 - Business to Business Reception @ 5 Star Catering
DESCRIPTION:Business to Business Networking Reception Hosted by 5 Star Catering\n\n\n\n5 Star Catering's 20th Anniversary Celebration!\n\n\n\nNetwork with your fellow members while learning more about 5 Star Catering\, where they specialize in corporate events and wedding receptions!\n\n\n\nEnjoy fine food and refreshments\, and learn what they have to offer in catering at your location\, or theirs!\n\n\n\nWin Great Prizes!  Make new business contacts!
X-ALT-DESC;FMTTYPE=text/html:<strong>Business to Business Networking Reception Hosted by 5 Star Catering</strong><br />\n<br />\n<u><em><strong>5 Star Catering&#39\;s 20th Anniversary Celebration!</strong></em></u><br />\n<br />\nNetwork with your fellow members while learning more about 5 Star Catering\, where they specialize in corporate events and wedding receptions!<br />\n<br />\nEnjoy fine food and refreshments\, and learn what they have to offer in catering at your location\, or theirs!<br />\n<br />\n<strong>Win Great Prizes!&nbsp\; Make new business contacts!</strong>
LOCATION:5 Star Catering at Sunrise Banquet & Conference Centre 5640 188 Street (at Highway 10) Surrey\, BC
UID:e.749.2474
SEQUENCE:3
DTSTAMP:20260425T164123Z
URL:https://business.swrbot.com/events/details/september-16-2014-business-to-business-reception-5-star-catering-09-16-2014-2474
END:VEVENT

END:VCALENDAR
