BEGIN:VCALENDAR
VERSION:2.0
PRODID:-//ChamberMaster//Event Calendar 2.0//EN
METHOD:PUBLISH
X-PUBLISHED-TTL:P3D
REFRESH-INTERVAL:P3D
CALSCALE:GREGORIAN
BEGIN:VEVENT
DTSTART:20140918T150000Z
DTEND:20140918T170000Z
X-MICROSOFT-CDO-ALLDAYEVENT:FALSE
SUMMARY:September 18\, 2014 - Decision Making
DESCRIPTION:Decision Making\n\n\n\nIn business we have to make decisions daily\, but how can you be sure that you're making the right one. Fight\, flight or freeze - these are the natural reactions when faced with big decisions in your business and no direction on the right solution!  Many of us run a reactive business and make decisions without processing what the right solution is.  Come learn the set process allowing you to make decisions confidently leaving out the guesswork and giving you a clear path to success!\n\n\n\nThis workshop will:\n\n	Provide you with the tools to systematically make effective decisions\n	 Give you the 5 step process to have confidence in your decision making\n	Teach you to write a plan and be equipped with the tools to make a decision in your business\n\nThis workshop is facilitated by Danny Kerr of Make Your Mark Consulting/ B.E.S.T. Mindset.
X-ALT-DESC;FMTTYPE=text/html:Decision Making<br />\n<br />\nIn business we have to make decisions daily\, but how can you be sure that you&rsquo\;re making the right one. Fight\, flight or freeze - these are the natural reactions when faced with big decisions in your business and no direction on the right solution!&nbsp\; Many of us run a reactive business and make decisions without processing what the right solution is.&nbsp\; Come learn the set process allowing you to make decisions confidently leaving out the guesswork and giving you a clear path to success!<br />\n<br />\nThis workshop will:\n<ul>\n	<li>Provide you with the tools to systematically make effective decisions</li>\n	<li>&nbsp\;Give you the 5 step process to have confidence in your decision making</li>\n	<li>Teach you to write a plan and be equipped with the tools to make a decision in your business</li>\n</ul>\nThis workshop is facilitated by Danny Kerr of Make Your Mark Consulting/ B.E.S.T. Mindset.
LOCATION:Surrey Board of Trade Conference Room 101 - 14439 104th Ave Surrey\, BC
UID:e.749.2681
SEQUENCE:3
DTSTAMP:20260425T164401Z
URL:https://business.swrbot.com/events/details/september-18-2014-decision-making-09-18-2014-2681
END:VEVENT

END:VCALENDAR
