BEGIN:VCALENDAR
VERSION:2.0
PRODID:-//ChamberMaster//Event Calendar 2.0//EN
METHOD:PUBLISH
X-PUBLISHED-TTL:P3D
REFRESH-INTERVAL:P3D
CALSCALE:GREGORIAN
BEGIN:VEVENT
DTSTART:20170919T143000Z
DTEND:20170919T163000Z
X-MICROSOFT-CDO-ALLDAYEVENT:FALSE
SUMMARY:September 19\, 2017 - Surrey Hot Topics Series: CETA: The Road Ahead for Canada and the EU
DESCRIPTION:The largest bilateral agreement since NAFTA\, CETA promises to dramatically liberalize trade between Canada and the European market. As Canada approaches the beginning stages of implementation\, join members of the Surrey Board of Trade and community leaders for a breakfast dialogue exploring how CETA will impact Canada's trade flows in the short to medium term\, and what challenges and opportunities lie ahead.\n\n\n\nHear from panelists: \n\n	Celso Boscariol - Chair\, European Union Chamber of Commerce\n	Michael Shields - Fraser Valley Leader\, Tax Services\, PwC\n	Christian Hansen - Regional Director and Senior Trade Commissioner\, Global Affairs Canada\n\nFacilitated by Dr. Greg Thomas\, G3 Consulting Ltd.\, Chair\, Surrey Board of Trade\, and Chair\, International Trade Team.
X-ALT-DESC;FMTTYPE=text/html:<span style="font-size:12px\;"><span style="font-family: arial\;">The largest bilateral agreement since NAFTA\, CETA promises to dramatically liberalize trade between Canada and the European market. As Canada approaches the beginning stages of implementation\, join members of the Surrey Board of Trade and community leaders for a breakfast dialogue exploring how CETA will impact Canada&rsquo\;s trade flows in the short to medium term\, and what challenges and opportunities lie ahead.<br />\n<br />\nHear from panelists:&nbsp\;</span></span>\n<ul>\n	<li><span style="font-size:12px\;"><span style="font-family: arial\;">Celso&nbsp\;Boscariol - Chair\, European Union Chamber of Commerce</span></span></li>\n	<li><span style="font-size:12px\;"><span style="font-family: arial\;">Michael Shields - Fraser Valley Leader\, Tax Services\, PwC</span></span></li>\n	<li><span style="font-size:12px\;"><span style="font-family: arial\;">Christian Hansen - Regional Director and Senior Trade Commissioner\, Global Affairs Canada</span></span></li>\n</ul>\n<span style="font-size:12px\;"><span style="font-family: arial\;">Facilitated by Dr. Greg Thomas\, G3 Consulting Ltd.\, Chair\, Surrey Board of Trade\, and Chair\, International Trade Team.</span></span>
LOCATION:Guildford Golf & Country Club\, 7929 152 Street\, Surrey
UID:e.749.5372
SEQUENCE:3
DTSTAMP:20260421T204003Z
URL:https://business.swrbot.com/events/details/september-19-2017-surrey-hot-topics-series-ceta-the-road-ahead-for-canada-and-the-eu-09-19-2017-5372
END:VEVENT

END:VCALENDAR
