BEGIN:VCALENDAR
VERSION:2.0
PRODID:-//ChamberMaster//Event Calendar 2.0//EN
METHOD:PUBLISH
X-PUBLISHED-TTL:P3D
REFRESH-INTERVAL:P3D
CALSCALE:GREGORIAN
BEGIN:VEVENT
DTSTART:20160920T144500Z
DTEND:20160920T170000Z
X-MICROSOFT-CDO-ALLDAYEVENT:FALSE
SUMMARY:September 20\, 2016 - Canadian Pension Plan (CPP) and Old Age Security (OAS) for Business People
DESCRIPTION:The session will include: eligibility and the actuarial factors if one takes their CPP early retirement\; as well as survivor\, death\, disability benefits\, credit splitting\, pension sharing\, and the child rearing provision\, as well as international benefits. We will discuss the eligibility for OAS benefits\, including those for low income seniors which is based on marital status\, income thresholds\, and age requirements\, these include the Guaranteed Income Supplement\, allowance\, and allowance for survivor.  We will also cover the recovery tax on OAS and how international benefits assist with eligibility for the OAS at 65. \n\n \nPresented by Service Canada.
X-ALT-DESC;FMTTYPE=text/html:<span style="color:rgb(0\,0\,0)"><span style="font-family:arial\,helvetica\,sans-serif"><font size="2">The session will include: eligibility and the actuarial factors if one takes their CPP early retirement\; as well as survivor\, death\, disability benefits\, credit splitting\, pension sharing\, and the child rearing provision\, as well as international benefits. We will discuss the eligibility for OAS benefits\, including those for low income seniors which is based on marital status\, income thresholds\, and age requirements\, these include the Guaranteed Income Supplement\, allowance\, and allowance for survivor.&nbsp\; We will also cover the recovery tax on OAS and how international benefits assist with eligibility for the OAS at 65. </font></span></span><br />\n&nbsp\;\n<div><span style="color:rgb(0\,0\,0)"><span style="font-family:arial\,helvetica\,sans-serif"><font size="2"><i><b>Presented by Service Canada</b></i>.</font></span></span></div>\n
LOCATION:Surrey Board of Trade Office 101\, 14439 104th Ave\, Surrey
UID:e.749.5109
SEQUENCE:3
DTSTAMP:20260424T051549Z
URL:https://business.swrbot.com/events/details/september-20-2016-canadian-pension-plan-cpp-and-old-age-security-oas-for-business-people-09-20-2016-5109
END:VEVENT

END:VCALENDAR
