BEGIN:VCALENDAR
VERSION:2.0
PRODID:-//ChamberMaster//Event Calendar 2.0//EN
METHOD:PUBLISH
X-PUBLISHED-TTL:P3D
REFRESH-INTERVAL:P3D
CALSCALE:GREGORIAN
BEGIN:VEVENT
DTSTART:20180921T003000Z
DTEND:20180921T023000Z
X-MICROSOFT-CDO-ALLDAYEVENT:FALSE
SUMMARY:September 20\, 2018 - Business to Business Networking at Semiahmoo House Society
DESCRIPTION:Join us for an evening of networking with the members of your community! Learn about Semiahmoo House Society's plans to promote inclusion over cocktails and hors-d'oeuvres by their own catering crew.\n\n	Win Great Prizes! \n	Make new business contacts! \n	Request a tour of their Tree House\n\n Semiahmoo House Society is a not-for-profit organization providing services to people with disabilities and their families in Surrey and White Rock.
X-ALT-DESC;FMTTYPE=text/html:<span style="font-size:12px\;"><span style="font-family:arial\;"><strong>Join us for an evening of networking with the members of your community! Learn about <span style="background-color:rgb(255\,255\,255)\;text-decoration-style:initial\;text-decoration-color:initial\;float:none\;display:inline"><span style="color:rgb(0\,0\,0)"><span class="m_2749325950054917012gmail-m_960483288378880905m_-6205335157697849884gmail-scayt-misspell-word" style="background-image: url(&quot\;&quot\;)\; background-position: 50% 100%\; background-repeat: repeat-x\; background-color: transparent\; padding-bottom: 0px\; display: inline\; color: inherit\;">Semiahmoo</span>&nbsp\;House Society&rsquo\;s plans to promote inclusion over cocktails and hors-d&#39\;oeuvres by their own catering crew.</span></span></strong></span></span>\n<ul>\n	<li><span style="font-size:12px\;"><span style="font-family:arial\;">Win Great Prizes! </span></span></li>\n	<li><span style="font-size:12px\;"><span style="font-family:arial\;">Make new business contacts! </span></span></li>\n	<li><span style="font-size:12px\;"><span style="font-family:arial\;">Request a tour of their Tree House</span></span></li>\n</ul>\n<span style="font-size:12px\;"><span style="font-family:arial\;"> <strong><em><span style="color: black\;">Semiahmoo House Society is a not-for-profit organization providing services to people with disabilities and their families in Surrey and White Rock.&nbsp\; </span></em></strong></span></span>
LOCATION:Semiahmoo House Society 15306 24th Avenue\, Surrey www.inclusionsurrey.com
UID:e.749.9393
SEQUENCE:3
DTSTAMP:20260421T054742Z
URL:https://business.swrbot.com/events/details/september-20-2018-business-to-business-networking-at-semiahmoo-house-society-09-20-2018-9393
END:VEVENT

END:VCALENDAR
