BEGIN:VCALENDAR
VERSION:2.0
PRODID:-//ChamberMaster//Event Calendar 2.0//EN
METHOD:PUBLISH
X-PUBLISHED-TTL:P3D
REFRESH-INTERVAL:P3D
CALSCALE:GREGORIAN
BEGIN:VEVENT
DTSTART:20170922T000000Z
DTEND:20170922T020000Z
X-MICROSOFT-CDO-ALLDAYEVENT:FALSE
SUMMARY:September 21\, 2017 - Business to Business at Semiahmoo House Society
DESCRIPTION:p.p1 {margin: 0.0px 0.0px 0.0px 0.0px\; font: 12.0px 'Univers LT Std'\; min-height: 14.0px}\np.p2 {margin: 0.0px 0.0px 0.0px 0.0px\; line-height: 12.1px\; font: 11.5px 'Univers LT Std'\; color: #7f8183}\np.p3 {margin: 0.0px 0.0px 0.0px 0.0px\; font: 11.5px 'Univers LT Std'\; color: #7f8183}\np.p4 {margin: 0.0px 0.0px 0.0px 0.0px\; font: 11.5px 'Univers LT Std'\; color: #7f8183\; min-height: 13.0px}\nspan.s1 {font: 12.0px 'Univers LT Std'\; color: #000000}\n\nJoin us for an evening of networking with the members of your community! Learn about Semiahmoo House Society's plans to promote inclusion over cocktails and hors d'oeuvres by their own catering crew.\n\n\n	Win great prizes!\n	Make new business contacts!\n	Request a tour of their Tree House!\n\n\nSemiahmoo House Society is a not-for-profit organization providing services to people with disabilities and their families in Surrey and White Rock.
X-ALT-DESC;FMTTYPE=text/html:<style type="text/css">p.p1 {margin: 0.0px 0.0px 0.0px 0.0px\; font: 12.0px 'Univers LT Std'\; min-height: 14.0px}\np.p2 {margin: 0.0px 0.0px 0.0px 0.0px\; line-height: 12.1px\; font: 11.5px 'Univers LT Std'\; color: #7f8183}\np.p3 {margin: 0.0px 0.0px 0.0px 0.0px\; font: 11.5px 'Univers LT Std'\; color: #7f8183}\np.p4 {margin: 0.0px 0.0px 0.0px 0.0px\; font: 11.5px 'Univers LT Std'\; color: #7f8183\; min-height: 13.0px}\nspan.s1 {font: 12.0px 'Univers LT Std'\; color: #000000}\n</style>\n<p>Join us for an evening of networking with the members of your community! Learn about Semiahmoo House Society&rsquo\;s plans to promote inclusion over cocktails and hors d&rsquo\;oeuvres by their own catering crew.</p>\n\n<ul>\n	<li>Win great prizes!</li>\n	<li>Make new business contacts!</li>\n	<li>Request a tour of their Tree House!</li>\n</ul>\n\n<p>Semiahmoo House Society is a not-for-profit organization providing services to people with disabilities and their families in Surrey and White Rock.</p>\n\n<p class="p2">&nbsp\;</p>\n
LOCATION:Semiahmoo House Society 15306 24th Avenue\, Surrey\, BC
UID:e.749.5188
SEQUENCE:3
DTSTAMP:20260421T204052Z
URL:https://business.swrbot.com/events/details/september-21-2017-business-to-business-at-semiahmoo-house-society-09-21-2017-5188
END:VEVENT

END:VCALENDAR
