BEGIN:VCALENDAR
VERSION:2.0
PRODID:-//ChamberMaster//Event Calendar 2.0//EN
METHOD:PUBLISH
X-PUBLISHED-TTL:P3D
REFRESH-INTERVAL:P3D
CALSCALE:GREGORIAN
BEGIN:VEVENT
DTSTART;VALUE=DATE:20090922
DTEND;VALUE=DATE:20090923
TRANSP:TRANSPARENT
X-MICROSOFT-CDO-ALLDAYEVENT:TRUE
SUMMARY:September 22\, '09 - Federal Government Procurement Workshop
DESCRIPTION:
X-ALT-DESC;FMTTYPE=text/html:
LOCATION:
UID:e.749.1543
SEQUENCE:3
DTSTAMP:20260423T102319Z
URL:https://business.swrbot.com/events/details/september-22-09-federal-government-procurement-workshop-09-22-2009-1543
END:VEVENT

END:VCALENDAR
