BEGIN:VCALENDAR
VERSION:2.0
PRODID:-//ChamberMaster//Event Calendar 2.0//EN
METHOD:PUBLISH
X-PUBLISHED-TTL:P3D
REFRESH-INTERVAL:P3D
CALSCALE:GREGORIAN
BEGIN:VEVENT
DTSTART:20170923T020000Z
DTEND:20170923T040000Z
X-MICROSOFT-CDO-ALLDAYEVENT:FALSE
SUMMARY:September 22\, 2017 - Black Tie Event
DESCRIPTION:Event for a Sensory Stimulation Room To benefit those living with Dementia and Alzheimer's 7:00-9:00 PM\n\n\n\nSilent Auction 11:00 AM - 4:00 PM\; Followed by: Networking & Fundraising
X-ALT-DESC;FMTTYPE=text/html:Event for a Sensory Stimulation Room To benefit those living with Dementia and Alzheimer&#39\;s 7:00-9:00 PM<br />\n<br />\nSilent Auction 11:00 AM - 4:00 PM\; Followed by: Networking &amp\; Fundraising
LOCATION:Laurel Place 9688 137A St. Surrey BC
UID:e.749.5386
SEQUENCE:3
DTSTAMP:20260421T203639Z
URL:https://business.swrbot.com/events/details/september-22-2017-black-tie-event-09-22-2017-5386
END:VEVENT

END:VCALENDAR
