BEGIN:VCALENDAR
VERSION:2.0
PRODID:-//ChamberMaster//Event Calendar 2.0//EN
METHOD:PUBLISH
X-PUBLISHED-TTL:P3D
REFRESH-INTERVAL:P3D
CALSCALE:GREGORIAN
BEGIN:VEVENT
DTSTART:20170923T200000Z
DTEND:20170924T060000Z
X-MICROSOFT-CDO-ALLDAYEVENT:FALSE
SUMMARY:September 23\, 2017 - Surrey Youth Fest
DESCRIPTION:Surrey Youth Fest is the City of Surrey's largest free youth celebration of the year. Featuring 25+ youth performers\, 40+ interactive exhibits\, swimming and water demos\, all-wheels skate jam\, air brush tattooing and carnival games.
X-ALT-DESC;FMTTYPE=text/html:Surrey Youth Fest is the City of Surrey&#39\;s largest free youth celebration of the year. Featuring 25+ youth performers\, 40+ interactive exhibits\, swimming and water demos\, all-wheels skate jam\, air brush tattooing and carnival games.
LOCATION:Guildford Recreation Centre - 15105 105 Ave.
UID:e.749.5480
SEQUENCE:3
DTSTAMP:20260421T203738Z
URL:https://business.swrbot.com/events/details/september-23-2017-surrey-youth-fest-09-23-2017-5480
END:VEVENT

END:VCALENDAR
