BEGIN:VCALENDAR
VERSION:2.0
PRODID:-//ChamberMaster//Event Calendar 2.0//EN
METHOD:PUBLISH
X-PUBLISHED-TTL:P3D
REFRESH-INTERVAL:P3D
CALSCALE:GREGORIAN
BEGIN:VEVENT
DTSTART:20140924T183000Z
DTEND:20140924T203000Z
X-MICROSOFT-CDO-ALLDAYEVENT:FALSE
SUMMARY:September 24\, 2014 - Economic Update Business Lunch
DESCRIPTION:Business Luncheon\n\n\n\nKeynote Speaker:\n\nDavid Tulk\, Chief Macro Strategist\, TD Securities\n\nRates and Foreign Exchange Research Group\n\n\n\nDavid is a top-ranked forecaster of the Canadian Economy by Bloomberg News  With a focus on Canada\, David provides research and analysis of the global economy and financial markets for the trading floor and a wide range of institutional\, corporate\, and commercial clients.
X-ALT-DESC;FMTTYPE=text/html:<strong>Business Luncheon</strong><br />\n<br />\n<u><strong>Keynote Speaker:</strong></u><br />\n<strong>David Tulk\, Chief Macro Strategist\, TD Securities<br />\nRates and Foreign Exchange Research Group</strong><br />\n<br />\nDavid is a top-ranked forecaster of the Canadian Economy by Bloomberg News&nbsp\; With a focus on Canada\, David provides research and analysis of the global economy and financial markets for the trading floor and a wide range of institutional\, corporate\, and commercial clients.
LOCATION:Eaglequest Golf Course (7778 152 St. Surrey\, BC)
UID:e.749.2657
SEQUENCE:3
DTSTAMP:20260425T163952Z
URL:https://business.swrbot.com/events/details/september-24-2014-economic-update-business-lunch-09-24-2014-2657
END:VEVENT

END:VCALENDAR
