BEGIN:VCALENDAR
VERSION:2.0
PRODID:-//ChamberMaster//Event Calendar 2.0//EN
METHOD:PUBLISH
X-PUBLISHED-TTL:P3D
REFRESH-INTERVAL:P3D
CALSCALE:GREGORIAN
BEGIN:VEVENT
DTSTART:20190924T140000Z
DTEND:20190924T160000Z
X-MICROSOFT-CDO-ALLDAYEVENT:FALSE
SUMMARY:September 24\, 2019 - GLOBAL TRADE – Turbulent Times in Canada and The United States - A Breakfast Session with BDO Canada LLP
DESCRIPTION:Does your company import or export goods from the U.S. or Canada? If yes\, chances are you are being affected by recent developments with respect to Free Trade Agreements or trade with China.\n\n \nJoin us for an interactive discussion on the recent global trade developments and Canada's place in the global trade environment.\n\n\n\nDiscussion will cover:\n\n	General overview of trade developments in Canada and the United States\n	Status of NAFTA 2.0 and how your company should be preparing\n	Section 301 duties on Chinese originating goods and how to mitigate exposure\n	What the U.S. - China trade war means for you. Click here for related insight.\n\nThis discussion will be led by Customs & International Trade expert\, Charmaine Goddeeris\, Senior Manager\, BDO Canada LLP. \n\n\n\nLearn how these trade policy updates\, future market outlook\, and latest industry developments affect your business and how to turn these threats into an opportunity.\n\n\n\nWhile we welcome all participants\, priority admittance will be given to those who work in the industry.
X-ALT-DESC;FMTTYPE=text/html:<span style="color: rgb(80\, 80\, 80)\; font-family: Arial\, sans-serif\; font-size: 12px\; background-color: rgb(255\, 255\, 255)\;">Does your company import or export goods from the U.S. or Canada? If yes\, chances are you are being affected by recent developments with respect to Free Trade Agreements or trade with China.</span><br />\n&nbsp\;\n<div><span style="color:#505050\;"><span style="font-family:arial\,sans-serif\;"><span style="font-size:9pt\;">Join us for an interactive discussion on the recent global trade developments and Canada&#39\;s place in the global trade environment.<br />\n<br />\nDiscussion will cover:</span></span></span>\n<ul>\n	<li style="margin:0px 0px 0px 15px\;color:rgb(80\, 80\, 80)\;"><span style="font-family:arial\,sans-serif\;"><span style="font-size:9pt\;">General overview of trade developments in Canada and the United States</span></span></li>\n	<li style="margin:0px 0px 0px 15px\;color:rgb(80\, 80\, 80)\;"><span style="font-family:arial\,sans-serif\;"><span style="font-size:9pt\;">Status of NAFTA 2.0 and how your company should be preparing</span></span></li>\n	<li style="margin:0px 0px 0px 15px\;color:rgb(80\, 80\, 80)\;"><span style="font-family:arial\,sans-serif\;"><span style="font-size:9pt\;">Section 301 duties on Chinese originating goods and how to mitigate exposure</span></span></li>\n	<li style="margin:0px 0px 0px 15px\;color:rgb(80\, 80\, 80)\;"><span style="font-family:arial\,sans-serif\;"><span style="font-size:9pt\;">What the U.S. - China trade war means for you.&nbsp\;</span></span><span style="font-family:arial\,sans-serif\;"><span style="font-size:8.5pt\;"><a data-saferedirecturl="https://www.google.com/url?q=http://www.cvent.com/api/email/dispatch/v1/click/x5dv6xk6k9cj56/qx47948p/aHR0cHMlM0ElMkYlMkZ3d3cuYmRvLmNvbSUyRmluc2lnaHRzJTJGdGF4JTJGaW50ZXJuYXRpb25hbC10YXglMkZkdXR5LXJlZnVuZC1vcHBvcnR1bml0eS1vbi1jaGluZXNlLWltcG9ydHMmSHVodkJCMDg0RWY5WWtyM0VFaWdPaHY5MzU0SWxTRFJINXhNQ2YwazFJWSUzRCZDbGljaytoZXJlK2ZvcityZWxhdGVkK2luc2lnaHQu&amp\;source=gmail&amp\;ust=1567280944391000&amp\;usg=AFQjCNGlsnlZOUTrqRSBpUkCBLmg9B5vzA" href="http://www.cvent.com/api/email/dispatch/v1/click/x5dv6xk6k9cj56/qx47948p/aHR0cHMlM0ElMkYlMkZ3d3cuYmRvLmNvbSUyRmluc2lnaHRzJTJGdGF4JTJGaW50ZXJuYXRpb25hbC10YXglMkZkdXR5LXJlZnVuZC1vcHBvcnR1bml0eS1vbi1jaGluZXNlLWltcG9ydHMmSHVodkJCMDg0RWY5WWtyM0VFaWdPaHY5MzU0SWxTRFJINXhNQ2YwazFJWSUzRCZDbGljaytoZXJlK2ZvcityZWxhdGVkK2luc2lnaHQu" style="color:rgb(17\, 85\, 204)\;" target="_blank">Click here for related insight.</a></span></span></li>\n</ul>\n<span style="color:#505050\;"><span style="font-family:arial\,sans-serif\;"><span style="font-size:9pt\;">This discussion will be led by&nbsp\;<strong>Customs &amp\; International Trade expert\, Charmaine Goddeeris\, Senior Manager\, BDO Canada LLP.&nbsp\;</strong><br />\n<br />\nLearn how these trade policy updates\, future market outlook\, and latest industry developments affect your business and how to turn these threats into an opportunity.</span></span></span><br />\n<br />\n<em><span style="color:#505050\;"><span style="font-family:arial\,sans-serif\;"><span style="font-size:9pt\;">While we welcome all participants\, priority admittance will be given to those who work in the industry.</span></span></span></em></div>\n
LOCATION:Civic Hotel Civic Ballroom B (13475 Central Ave\, Surrey\, BC V3T 0K2)
UID:e.749.10383
SEQUENCE:3
DTSTAMP:20260420T140723Z
URL:https://business.swrbot.com/events/details/september-24-2019-global-trade-turbulent-times-in-canada-and-the-united-states-a-breakfast-session-with-bdo-canada-llp-09-24-2019-10383
END:VEVENT

END:VCALENDAR
