BEGIN:VCALENDAR
VERSION:2.0
PRODID:-//ChamberMaster//Event Calendar 2.0//EN
METHOD:PUBLISH
X-PUBLISHED-TTL:P3D
REFRESH-INTERVAL:P3D
CALSCALE:GREGORIAN
BEGIN:VEVENT
DTSTART:20180925T143000Z
DTEND:20180925T163000Z
X-MICROSOFT-CDO-ALLDAYEVENT:FALSE
SUMMARY:September 25\, 2018 - Provincial Government Procurement Workshop with Minister Jinny Sims
DESCRIPTION:A new procurement strategy is being introduced to change the way the government buys goods and services and make it easier for businesses to access opportunities.  \n\n\n\n\n\n\n\nThe Surrey Board of Trade invites you to take part in this government procurement workshop on September 25 from 7:30 - 9:30 a.m. at the Surrey Board of Trade office. Minister Jinny Sims\, Minister of Citizens' Services will discuss the government's strategy to modernize the way they buy goods and services and how your business can take advantage and access new government opportunities. You will have an opportunity to ask questions and share your thoughts on this new strategy.\n\n\n\nThe major changes in the strategy include:\n\n\n\n\n\n\n\n	Streamlining processes to make access to opportunities more transparent and less cumbersome by replacing the 20-year-old BC Bid system.\n	Designing clear\, simple-to-use processes targeted to the size of the procurement.\n	Introducing a "procurement concierge" program\, to act as a matchmaker between government buyers and suppliers of innovative products.\n	Creating opportunities for startups to co-develop solutions with buyers\, and ensuring\, wherever possible\, local supply lines are utilized.\n	Ensuring B.C. suppliers are preferred\, while still meeting trade obligations.\n	Creating a new analysis process for large strategic contracts to improve opportunity for businesses of all sizes.\n	Introducing new social and environmental purchasing guidelines to realize added benefits for British Columbians.\n	Implementing a centralized tool to manage pre-qualified contractor lists.
X-ALT-DESC;FMTTYPE=text/html:<span style="font-family: arial\,helvetica\,sans-serif\;"><span style="float: none\; display: inline\; text-decoration-style: initial\; text-decoration-color: initial\;"><span style="background-color: rgba(255\, 255\, 255\, 0.8)\;">A new procurement strategy is being introduced to change the way&nbsp\;</span></span><span id="m_-3449837049290714208gmail-641" style="border-bottom-color: transparent\; border-bottom-width: 2px\; border-bottom-style: solid\; display: inline\; background-repeat: no-repeat\; text-decoration-style: initial\; text-decoration-color: initial\;">the government</span><span style="float: none\; display: inline\; text-decoration-style: initial\; text-decoration-color: initial\;"><span style="background-color: rgba(255\, 255\, 255\, 0.8)\;">&nbsp\;buys goods and services and make it easier for businesses to access opportunities. &nbsp\;</span></span></span>\n<div>\n<div>\n<div>\n<div>\n<div>\n<div><br />\n<span style="font-family: arial\,helvetica\,sans-serif\;">The Surrey Board of Trade invites you to take part in this government procurement workshop on <span data-term="goog_494787699" tabindex="0">September 25 from 7:30 - 9:30 a.m.</span></span> at the Surrey Board of Trade office. Minister Jinny Sims\, Minister of Citizens&#39\; Services will discuss the government&#39\;s&nbsp\;<span style="float: none\; display: inline\; text-decoration-style: initial\; text-decoration-color: initial\;"><span style="background-color: rgb(255\, 255\, 255)\;">strategy to modernize the way they buy goods and services</span></span>&nbsp\;and how your business can take advantage and access new government opportunities. You will have an opportunity to ask questions and share your thoughts on this new strategy.<br />\n<br />\n<span style="font-family: arial\,helvetica\,sans-serif\;">The major changes in the strategy include:</span></div>\n</div>\n</div>\n</div>\n</div>\n</div>\n\n<ul>\n	<li style="box-sizing: border-box\;"><span style="font-family: arial\,helvetica\,sans-serif\;">Streamlining processes to make access to opportunities more transparent and less cumbersome by replacing the 20-year-old BC Bid system.</span></li>\n	<li style="box-sizing: border-box\;"><span style="font-family: arial\,helvetica\,sans-serif\;">Designing clear\, simple-to-use processes targeted to the size of the procurement.</span></li>\n	<li style="box-sizing: border-box\;"><span style="font-family: arial\,helvetica\,sans-serif\;">Introducing a &ldquo\;procurement concierge&rdquo\; program\, to act as a matchmaker between government buyers and suppliers of innovative products.</span></li>\n	<li style="box-sizing: border-box\;"><span style="font-family: arial\,helvetica\,sans-serif\;">Creating opportunities for startups to co-develop solutions with buyers\, and ensuring\, wherever possible\, local supply lines are utilized.</span></li>\n	<li style="box-sizing: border-box\;"><span style="font-family: arial\,helvetica\,sans-serif\;">Ensuring B.C. suppliers are preferred\, while still meeting trade obligations.</span></li>\n	<li style="box-sizing: border-box\;"><span style="font-family: arial\,helvetica\,sans-serif\;">Creating a new analysis process for large strategic contracts to improve opportunity for businesses of all sizes.</span></li>\n	<li style="box-sizing: border-box\;"><span style="font-family: arial\,helvetica\,sans-serif\;">Introducing new social and environmental purchasing guidelines to realize added benefits for British Columbians.</span></li>\n	<li style="box-sizing: border-box\;"><span style="font-family: arial\,helvetica\,sans-serif\;">Implementing a centralized tool to manage pre-qualified contractor lists.</span></li>\n</ul>\n
LOCATION:Surrey Board of Trade (14439 104 Ave\, Surrey\, BC V3R 1M1)
UID:e.749.9474
SEQUENCE:3
DTSTAMP:20260421T054544Z
URL:https://business.swrbot.com/events/details/september-25-2018-provincial-government-procurement-workshop-with-minister-jinny-sims-09-25-2018-9474
END:VEVENT

END:VCALENDAR
