BEGIN:VCALENDAR
VERSION:2.0
PRODID:-//ChamberMaster//Event Calendar 2.0//EN
METHOD:PUBLISH
X-PUBLISHED-TTL:P3D
REFRESH-INTERVAL:P3D
CALSCALE:GREGORIAN
BEGIN:VEVENT
DTSTART:20190925T170000Z
DTEND:20190925T183000Z
X-MICROSOFT-CDO-ALLDAYEVENT:FALSE
SUMMARY:September 25\, 2019 - Fourth Business Town Hall with People's Party of Canada Leader\, Maxime Bernier
DESCRIPTION:This is your chance to ask questions on how the PPC (People's Party of Canada) will create economic opportunities for all Canadians.
X-ALT-DESC;FMTTYPE=text/html:This is your chance&nbsp\;to ask questions on how the PPC (People&#39\;s Party of Canada) will create economic opportunities for all Canadians.
LOCATION:Sheraton Vancouver Guildford Hotel 15269 104 Ave\, Surrey
UID:e.749.10603
SEQUENCE:3
DTSTAMP:20260420T140631Z
URL:https://business.swrbot.com/events/details/september-25-2019-fourth-business-town-hall-with-people-s-party-of-canada-leader-maxime-bernier-09-25-2019-10603
END:VEVENT

END:VCALENDAR
