BEGIN:VCALENDAR
VERSION:2.0
PRODID:-//ChamberMaster//Event Calendar 2.0//EN
METHOD:PUBLISH
X-PUBLISHED-TTL:P3D
REFRESH-INTERVAL:P3D
CALSCALE:GREGORIAN
BEGIN:VEVENT
DTSTART:20180927T003000Z
DTEND:20180927T023000Z
X-MICROSOFT-CDO-ALLDAYEVENT:FALSE
SUMMARY:September 26\, 2018 - Business to Business Networking Reception Hosted by Four Points by Sheraton Surrey
DESCRIPTION:Hosted by  Four Points by Sheraton Surrey!\n\n\n\nJoin the Surrey Board of Trade for an evening of networking and fun at the newly renovated Four Points Hotel! \n\n\n\nCome and enjoy drinks\, appetizers\, win prizes\, and make new business contacts!\n\n \nFour Points by Sheraton is a brand of upscale hotels targeted towards business travelers and small conventions. It is owned by Starwood Hotels & Resorts\, which is a subsidiary of Marriott International. The group operates more than 300 hotels worldwide under the Four Points by Sheraton brand.
X-ALT-DESC;FMTTYPE=text/html:<div><span style="font-family:arial\;"><font color="#000000"><span style="letter-spacing:-0.133333px\;background-color:rgb(255\,255\,255)\;text-decoration-style:initial\;text-decoration-color:initial\;float:none\;display:inline"><font color="#000000"><span style="box-sizing:content-box\;clear:none\;direction:inherit\;display:inline\;empty-cells:show\;float:none\;font-variant-numeric:inherit\;font-variant-east-asian:inherit\;font-stretch:inherit\;letter-spacing:normal\;margin:0px\;max-height:none\;max-width:none\;min-height:initial\;min-width:initial\;opacity:1\;overflow:visible\;padding:0px\;table-layout:auto\;text-align:left\;text-decoration:none\;text-overflow:clip\;vertical-align:baseline\;word-break:inherit\;word-wrap:inherit\;background:none rgb(255\,255\,255)\;border:none\;border-collapse:separate\;border-radius:0px\;height:auto\;width:auto\;line-height:1.6">Hosted by <b style="font-size:small\;text-align:start\;text-decoration-style:initial\;text-decoration-color:initial">&nbsp\;<span style="letter-spacing:-0.133333px\;background-color:rgb(255\,255\,255)\;text-decoration-style:initial\;text-decoration-color:initial\;float:none\;display:inline">Four Points by Sheraton Surrey</span></b>!</span><br style="box-sizing:content-box\;clear:none\;direction:inherit\;display:inline\;empty-cells:show\;float:none\;font-variant-numeric:inherit\;font-variant-east-asian:inherit\;font-stretch:inherit\;letter-spacing:normal\;margin:0px\;max-height:none\;max-width:none\;min-height:initial\;min-width:initial\;opacity:1\;overflow:visible\;padding:0px\;table-layout:auto\;text-align:left\;text-decoration:none\;text-overflow:clip\;vertical-align:baseline\;word-break:inherit\;word-wrap:inherit\;background:none rgb(255\,255\,255)\;border:none\;border-collapse:separate\;border-radius:0px\;height:auto\;width:auto\;line-height:1.6" />\n<br />\n<span style="box-sizing:content-box\;clear:none\;direction:inherit\;display:inline\;empty-cells:show\;float:none\;font-variant-numeric:inherit\;font-variant-east-asian:inherit\;font-stretch:inherit\;letter-spacing:normal\;margin:0px\;max-height:none\;max-width:none\;min-height:initial\;min-width:initial\;opacity:1\;overflow:visible\;padding:0px\;table-layout:auto\;text-align:left\;text-decoration:none\;text-overflow:clip\;vertical-align:baseline\;word-break:inherit\;word-wrap:inherit\;background:none rgb(255\,255\,255)\;border:none\;border-collapse:separate\;border-radius:0px\;height:auto\;width:auto\;line-height:1.6">Join the Surrey Board of Trade for an evening of networking and fun at the newly&nbsp\;renovated Four Points Hotel!&nbsp\;</span><br style="box-sizing:content-box\;clear:none\;direction:inherit\;display:inline\;empty-cells:show\;float:none\;font-variant-numeric:inherit\;font-variant-east-asian:inherit\;font-stretch:inherit\;letter-spacing:normal\;margin:0px\;max-height:none\;max-width:none\;min-height:initial\;min-width:initial\;opacity:1\;overflow:visible\;padding:0px\;table-layout:auto\;text-align:left\;text-decoration:none\;text-overflow:clip\;vertical-align:baseline\;word-break:inherit\;word-wrap:inherit\;background:none rgb(255\,255\,255)\;border:none\;border-collapse:separate\;border-radius:0px\;height:auto\;width:auto\;line-height:1.6" />\n<br style="box-sizing:content-box\;clear:none\;direction:inherit\;display:inline\;empty-cells:show\;float:none\;font-variant-numeric:inherit\;font-variant-east-asian:inherit\;font-stretch:inherit\;letter-spacing:normal\;margin:0px\;max-height:none\;max-width:none\;min-height:initial\;min-width:initial\;opacity:1\;overflow:visible\;padding:0px\;table-layout:auto\;text-align:left\;text-decoration:none\;text-overflow:clip\;vertical-align:baseline\;word-break:inherit\;word-wrap:inherit\;background:none rgb(255\,255\,255)\;border:none\;border-collapse:separate\;border-radius:0px\;height:auto\;width:auto\;line-height:1.6" />\n<span style="box-sizing:content-box\;clear:none\;direction:inherit\;display:inline\;empty-cells:show\;float:none\;font-variant-numeric:inherit\;font-variant-east-asian:inherit\;font-stretch:inherit\;letter-spacing:normal\;margin:0px\;max-height:none\;max-width:none\;min-height:initial\;min-width:initial\;opacity:1\;overflow:visible\;padding:0px\;table-layout:auto\;text-align:left\;text-decoration:none\;text-overflow:clip\;vertical-align:baseline\;word-break:inherit\;word-wrap:inherit\;background:none 0% 0% repeat scroll rgb(255\,255\,255)\;border:none\;border-collapse:separate\;border-radius:0px\;height:auto\;width:auto\;line-height:1.6"><span style="box-sizing:content-box\;clear:none\;direction:inherit\;display:inline\;empty-cells:show\;float:none\;font-style:inherit\;font-variant:inherit\;font-stretch:inherit\;margin:0px\;max-height:none\;max-width:none\;min-height:initial\;min-width:initial\;opacity:1\;overflow:visible\;padding:0px\;table-layout:auto\;text-indent:inherit\;text-overflow:clip\;text-transform:inherit\;vertical-align:baseline\;white-space:inherit\;word-break:inherit\;word-spacing:inherit\;word-wrap:inherit\;background:none\;border:none\;border-collapse:separate\;border-radius:0px\;height:auto\;width:auto\;letter-spacing:0px\;line-height:1.6\;text-align:left\;text-decoration:none">Come and enjoy drinks\, appetizers\, win prizes\, and make new business contacts!</span></span></font></span></font></span></div>\n\n<div>&nbsp\;</div>\n<span style="font-family:arial\;"><font color="#000000"><span style="letter-spacing:-0.133333px\;background-color:rgb(255\,255\,255)\;text-decoration-style:initial\;text-decoration-color:initial\;float:none\;display:inline"><font color="#000000"><span style="box-sizing:content-box\;clear:none\;direction:inherit\;display:inline\;empty-cells:show\;float:none\;font-variant-numeric:inherit\;font-variant-east-asian:inherit\;font-stretch:inherit\;letter-spacing:normal\;margin:0px\;max-height:none\;max-width:none\;min-height:initial\;min-width:initial\;opacity:1\;overflow:visible\;padding:0px\;table-layout:auto\;text-align:left\;text-decoration:none\;text-overflow:clip\;vertical-align:baseline\;word-break:inherit\;word-wrap:inherit\;background:none 0% 0% repeat scroll rgb(255\,255\,255)\;border:none\;border-collapse:separate\;border-radius:0px\;height:auto\;width:auto\;line-height:1.6"><span style="box-sizing:content-box\;clear:none\;direction:inherit\;display:inline\;empty-cells:show\;float:none\;font-style:inherit\;font-variant:inherit\;font-stretch:inherit\;margin:0px\;max-height:none\;max-width:none\;min-height:initial\;min-width:initial\;opacity:1\;overflow:visible\;padding:0px\;table-layout:auto\;text-indent:inherit\;text-overflow:clip\;text-transform:inherit\;vertical-align:baseline\;white-space:inherit\;word-break:inherit\;word-spacing:inherit\;word-wrap:inherit\;background:none\;border:none\;border-collapse:separate\;border-radius:0px\;height:auto\;width:auto\;letter-spacing:0px\;line-height:1.6\;text-align:left\;text-decoration:none"><b style="color:rgb(34\,34\,34)\;font-style:normal\;font-variant-ligatures:normal\;font-variant-caps:normal\;letter-spacing:normal\;text-align:start\;text-indent:0px\;text-transform:none\;white-space:normal\;word-spacing:0px\;background-color:rgb(255\,255\,255)\;text-decoration-style:initial\;text-decoration-color:initial">Four Points by Sheraton</b><span style="color:rgb(34\,34\,34)\;font-style:normal\;font-variant-ligatures:normal\;font-variant-caps:normal\;letter-spacing:normal\;text-align:start\;text-indent:0px\;text-transform:none\;white-space:normal\;word-spacing:0px\;background-color:rgb(255\,255\,255)\;text-decoration-style:initial\;text-decoration-color:initial\;float:none\;display:inline">&nbsp\;is a brand of upscale hotels targeted towards business travelers and small conventions. It is owned by&nbsp\;</span>Starwood Hotels &amp\; Resorts<span style="color:rgb(34\,34\,34)\;font-style:normal\;font-variant-ligatures:normal\;font-variant-caps:normal\;letter-spacing:normal\;text-align:start\;text-indent:0px\;text-transform:none\;white-space:normal\;word-spacing:0px\;background-color:rgb(255\,255\,255)\;text-decoration-style:initial\;text-decoration-color:initial\;float:none\;display:inline">\, which is a subsidiary of&nbsp\;</span>Marriott International<span style="color:rgb(34\,34\,34)\;font-style:normal\;font-variant-ligatures:normal\;font-variant-caps:normal\;letter-spacing:normal\;text-align:start\;text-indent:0px\;text-transform:none\;white-space:normal\;word-spacing:0px\;background-color:rgb(255\,255\,255)\;text-decoration-style:initial\;text-decoration-color:initial\;float:none\;display:inline">. The group operates more than 300 hotels worldwide under the Four Points by Sheraton brand.&nbsp\;</span></span></span></font></span></font></span>
LOCATION:Four Points by Sheraton Surrey 10410 158 Street\, Surrey BC V4N 5C2
UID:e.749.9432
SEQUENCE:3
DTSTAMP:20260421T065316Z
URL:https://business.swrbot.com/events/details/september-26-2018-business-to-business-networking-reception-hosted-by-four-points-by-sheraton-surrey-09-26-2018-9432
END:VEVENT

END:VCALENDAR
