BEGIN:VCALENDAR
VERSION:2.0
PRODID:-//ChamberMaster//Event Calendar 2.0//EN
METHOD:PUBLISH
X-PUBLISHED-TTL:P3D
REFRESH-INTERVAL:P3D
CALSCALE:GREGORIAN
BEGIN:VEVENT
DTSTART:20180926T143000Z
DTEND:20180926T163000Z
X-MICROSOFT-CDO-ALLDAYEVENT:FALSE
SUMMARY:September 26\, 2018 - Surrey Hot Topics Series: CANNABIS LEGALIZATION: WHAT IT MEANS FOR BUSINESSES
DESCRIPTION:Can you attend the Surrey Hot Topic Dialogue on Cannabis and the Workplace   Issues\, Impacts & Responsibilities on Wednesday\, September 26 at the Civic Hotel in Surrey?\n\n \n\nOn October 17\, a transformative law will change across Canada changing the way cannabis is grown\, sold\, possessed and consumed. I encourage you to attend this dialogue to learn: \n\n	Workplace Impacts & Proactive Human Resource Policies\n	How the legislation will affect businesses\, tenants\, and landowners\n	If legalization will improve public safety \n\nHear from our panelists:\n\n\n	Cindy Zheng\, McQuarrie Hunter LLP\n	Jeremy Jacob\, Canadian Association of Medical Cannabis Dispensaries\n	Dheeraj Bisla\, PwC\n	Markita Kaulius\, Families For Justice\n\nThis is your opportunity to have your questions answered. To register go to www.businessinsurrey.com or email info@businessinsurrey.com.
X-ALT-DESC;FMTTYPE=text/html:<span style="font-size:12px\;"><span style="font-family:arial\;"><span style="background:white\;">Can you attend the <strong>Surrey Hot Topic Dialogue on Cannabis and the Workplace &ndash\; Issues\, Impacts &amp\; Responsibilities </strong>on&nbsp\;<strong>Wednesday\, September 26 at the Civic Hotel in Surrey</strong>?</span><br />\n&nbsp\;<br />\nOn October 17\, a transformative law will change across Canada changing the way cannabis is grown\, sold\, possessed and consumed. I encourage you to attend this dialogue to learn: </span></span>\n<ol>\n	<li><span style="font-size:12px\;"><span style="font-family:arial\;">Workplace Impacts &amp\; Proactive Human Resource Policies</span></span></li>\n	<li><span style="font-size:12px\;"><span style="font-family:arial\;">How the legislation will affect businesses\, tenants\, and landowners</span></span></li>\n	<li><span style="font-size:12px\;"><span style="font-family:arial\;">If legalization will improve public safety </span></span></li>\n</ol>\n<span style="font-size:12px\;"><span style="font-family:arial\;"><strong>Hear from our panelists:</strong></span></span>\n\n<ul>\n	<li><span style="font-size:12px\;"><span style="font-family:arial\;"><span style="background:white\;"><span style="color:black\;">Cindy Zheng\, McQuarrie Hunter LLP</span></span></span></span></li>\n	<li><span style="font-size:12px\;"><span style="font-family:arial\;"><span style="background:white\;"><span style="color:black\;">Jeremy Jacob\, Canadian Association of Medical Cannabis Dispensaries</span></span></span></span></li>\n	<li><span style="font-size:12px\;"><span style="font-family:arial\;"><span style="background:white\;"><span style="color:black\;">Dheeraj Bisla\, PwC</span></span></span></span></li>\n	<li><span style="font-size:12px\;"><span style="font-family:arial\;"><span style="background:white\;"><span style="color:black\;">Markita Kaulius\, Families For Justice</span></span></span></span></li>\n</ul>\n<span style="font-size:12px\;"><span style="font-family:arial\;"><span style="background:white\;">This is your opportunity to have your questions answered. To register go to </span><a href="http://www.businessinsurrey.com"><span style="background:white\;">www.businessinsurrey.com</span></a><span style="background:white\;"> or email&nbsp\;</span><a href="mailto:info@businessinsurrey.com" target="_blank"><span style="background:white\;">info@businessinsurrey.com</span></a><span style="background:white\;">.</span></span></span>
LOCATION:Civic Hotel (13475 Central Ave\, Surrey) beside Surrey City Hall
UID:e.749.9678
SEQUENCE:3
DTSTAMP:20260421T054800Z
URL:https://business.swrbot.com/events/details/september-26-2018-surrey-hot-topics-series-cannabis-legalization-what-it-means-for-businesses-09-26-2018-9678
END:VEVENT

END:VCALENDAR
