BEGIN:VCALENDAR
VERSION:2.0
PRODID:-//ChamberMaster//Event Calendar 2.0//EN
METHOD:PUBLISH
X-PUBLISHED-TTL:P3D
REFRESH-INTERVAL:P3D
CALSCALE:GREGORIAN
BEGIN:VEVENT
DTSTART:20180927T183000Z
DTEND:20180927T203000Z
X-MICROSOFT-CDO-ALLDAYEVENT:FALSE
SUMMARY:September 27\, 2018 - Surrey Environment & Business Awards Lunch
DESCRIPTION:Join us for the 12th Annual Surrey Environment and Business Awards Lunch as the Surrey Board of Trade recognizes Surrey-based businesses or Surrey Board of Trade members who have demonstrated exceptional dedication to environmental leadership and/or issues.\n\n\n\nThis event features the presentation of the 2018 Surrey Environment and Business Awards\, in the following categories:\n\n\n\n1. Small Business\n\n2. Medium Business\n\n3. Large Business\n\n4. Circular Economy
X-ALT-DESC;FMTTYPE=text/html:Join us for the 12th Annual Surrey Environment and Business Awards Lunch as the Surrey Board of Trade recognizes Surrey-based businesses or Surrey Board of Trade members who have demonstrated exceptional dedication to environmental leadership and/or issues.<br />\n<br />\nThis event&nbsp\;features the presentation of the 2018 Surrey Environment and Business Awards\, in the following categories:<br />\n<br />\n1. Small Business<br />\n2. Medium Business<br />\n3. Large Business<br />\n4. Circular Economy
LOCATION:Sheraton Vancouver Guildford Hotel 15269 104 Avenue\, Surrey
UID:e.749.6701
SEQUENCE:3
DTSTAMP:20260421T054355Z
URL:https://business.swrbot.com/events/details/september-27-2018-surrey-environment-business-awards-lunch-09-27-2018-6701
END:VEVENT

END:VCALENDAR
