BEGIN:VCALENDAR
VERSION:2.0
PRODID:-//ChamberMaster//Event Calendar 2.0//EN
METHOD:PUBLISH
X-PUBLISHED-TTL:P3D
REFRESH-INTERVAL:P3D
CALSCALE:GREGORIAN
BEGIN:VEVENT
DTSTART:20100928T150000Z
DTEND:20100928T170000Z
X-MICROSOFT-CDO-ALLDAYEVENT:FALSE
SUMMARY:September 28\, 2010 - How to Dramatically Accelerate Your Business Growth
DESCRIPTION:How To Dramatically Accelerate\n\n	Your Business Growth\n\n	 \n\n	You want your business to grow. You want to increase your customer base and revenues. You're looking for ideas that you can use immediately. You don't want\, however\, to spend a lot of money.\n\n	This workshop is designed for you.\n\n	\n\n	What You Will Learn:\n\n	In this interactive workshop you will learn effective\, low cost\, and zero cost ideas to drive revenue growth. These are ideas that are unknown to most entrepreneurs\, yet the very successful entrepreneurs use them\, and embrace them\, in their business to achieve even greater success. By attending this work shop\, taking notes\, and being engaged in the training\, you'll learn the same concepts that the over achievers use. \n\n	The course is fast paced\, interactive and very educational. You'll be recharged\, reenergized and ready to get back to your business. \n\n	 \n\n	This workshop is facilitated by John Marshall\, President of Results Driven Business Coaching Success System \n\n	 \n\n	Before he launched his company over 6 years ago\, he was passionately helping entrepreneurs and business owners in Canada\, the US\, the UK and Europe\, to dramatically increase their results. During those years\, he developed a business coaching 'system' that moved clients' away from feeling overwhelmed\, to achieving double digit increases in revenue and productivity\, resulting in more freedom to enjoy their greater
X-ALT-DESC;FMTTYPE=text/html:<div>\n	<span face=""><strong><span style="font-size: 22pt"><span style="font-family: arial\, sans-serif">How To Dramatically Accelerate</span></span></strong></span><br />\n	<span face=""><strong><span style="font-size: 22pt"><span style="font-family: arial\, sans-serif">Your Business Growth</span></span></strong></span><br />\n	&nbsp\;<br />\n	<span style="font-family: verdana"><span style="font-size: 10pt"><span style="font-family: verdana\, sans-serif">You want your business to grow. You want to increase your customer base and revenues. You&rsquo\;re looking for ideas that you can use immediately. You don&rsquo\;t want\, however\, to spend a lot of money.</span></span></span><br />\n	<span style="font-family: verdana"><span style="font-size: 10pt"><span style="font-family: verdana\, sans-serif">This workshop is designed for you.</span></span></span><br />\n	<br />\n	<span style="font-family: verdana"><strong><em><span style="font-size: 11pt"><span style="font-family: verdana\, sans-serif">What You Will Learn:</span></span></em></strong></span><br />\n	<span style="font-family: verdana"><span style="font-size: 10pt"><span style="font-family: verdana\, sans-serif">In this interactive workshop you will learn effective\, low cost\, and zero cost ideas to drive revenue growth. These are ideas that are unknown to most entrepreneurs\, yet the very successful entrepreneurs use them\, and embrace them\, in their business to achieve even greater success. By attending this work shop\, taking notes\, and being engaged in the training\, you&rsquo\;ll learn the same concepts that the over achievers use. </span></span></span><br />\n	<span face=""><span style="font-size: 10pt"><span style="font-family: arial\, sans-serif">The course is fast paced\, interactive and very educational. You&rsquo\;ll be recharged\, reenergized and ready to get back to your business. </span></span></span><br />\n	&nbsp\;<br />\n	<span face=""><span style="font-size: medium"><span style="font-size: 10pt"><span style="font-family: arial\, sans-serif">This workshop is facilitated by John Marshall\, </span></span></span><span style="font-family: arial\, sans-serif">President of <strong>Results Driven Business Coaching Success System</strong>&trade\;</span></span><br />\n	&nbsp\;<br />\n	<span style="font-size: 8.5pt"><span style="font-family: verdana\, sans-serif"><span style="font-family: verdana">Before he launched his company over 6 years ago\, he was passionately helping entrepreneurs and business owners in Canada\, the US\, the UK and Europe\, to dramatically increase their results. During those years\, he developed a business coaching &lsquo\;system&rsquo\; that moved clients&rsquo\; away from feeling overwhelmed\, to achieving double digit increases in revenue and productivity\, resulting in more freedom to enjoy their greater</span></span></span><br />\n	&nbsp\;</div>\n
LOCATION:Surrey Board of Trade Conference Room#101 - 14439 104 Avenue\, Surrey
UID:e.749.1672
SEQUENCE:3
DTSTAMP:20260422T125820Z
URL:https://business.swrbot.com/events/details/september-28-2010-how-to-dramatically-accelerate-your-business-growth-09-28-2010-1672
END:VEVENT

END:VCALENDAR
