BEGIN:VCALENDAR
VERSION:2.0
PRODID:-//ChamberMaster//Event Calendar 2.0//EN
METHOD:PUBLISH
X-PUBLISHED-TTL:P3D
REFRESH-INTERVAL:P3D
CALSCALE:GREGORIAN
BEGIN:VEVENT
DTSTART:20140930T150000Z
DTEND:20140930T170000Z
X-MICROSOFT-CDO-ALLDAYEVENT:FALSE
SUMMARY:September 30\, 2014 - Accessing Global Markets Workshop
DESCRIPTION:Accessing Global Markets\n\n\n\nAre you a BC company interested in expanding into global markets?\n\nThis seminar will focus on selling and shipping products to countries other than the United States and will be of interest to businesses looking to expand their traditional product market. The seminar will provide you with a solid foundation of reporting\, record keeping requirements and terms of sale. By attending this session\, you will gain a better understanding of Free Trade Agreements\, regulations and how to prepare the documentation for export.\n\n\n\nTopics include:\n\n  Foreign Affairs exporting services\n\n  Obtaining a business number\n\n  Export controls\, sanctions and permits\n\n  How to report your exports\n\n  Import and export documentation\n\n  Free trade agreements\n\n  Incoterms\n\n  Financing arrangements\n\n  Letters of credit\n\n  Modes of transportation\n\n  Temporary exports\n\n  Fines and penalties\n\n\n\nJo-AThis workshop is presented by William Lee P. Log\, CCS\, CTCS\, on behalf of Pacific Customs Brokers. William is the Air Freight Manager at Pacific Overseas Forwarding and has over 24 years of experience in the transportation\, warehousing and logistics industry.
X-ALT-DESC;FMTTYPE=text/html:<strong>Accessing Global Markets</strong><br />\n<br />\nAre you a BC company interested in expanding into global markets?<br />\nThis seminar will focus on selling and shipping products to countries other than the United States and will be of interest to businesses looking to expand their traditional product market. The seminar will provide you with a solid foundation of reporting\, record keeping requirements and terms of sale. By attending this session\, you will gain a better understanding of Free Trade Agreements\, regulations and how to prepare the documentation for export.<br />\n<br />\n<strong>Topics include:</strong><br />\n&bull\; Foreign Affairs exporting services<br />\n&bull\; Obtaining a business number<br />\n&bull\; Export controls\, sanctions and permits<br />\n&bull\; How to report your exports<br />\n&bull\; Import and export documentation<br />\n&bull\; Free trade agreements<br />\n&bull\; Incoterms<br />\n&bull\; Financing arrangements<br />\n&bull\; Letters of credit<br />\n&bull\; Modes of transportation<br />\n&bull\; Temporary exports<br />\n&bull\; Fines and penalties<br />\n<br />\nJo-AThis workshop is presented by William Lee P. Log\, CCS\, CTCS\, on behalf of Pacific Customs Brokers. William is the Air Freight Manager at Pacific Overseas Forwarding and has over 24 years of experience in the transportation\, warehousing and logistics industry.
LOCATION:Surrey Board of Trade Conference Room 101 - 14439 104th Ave Surrey\, BC
UID:e.749.2623
SEQUENCE:3
DTSTAMP:20260425T163353Z
URL:https://business.swrbot.com/events/details/september-30-2014-accessing-global-markets-workshop-09-30-2014-2623
END:VEVENT

END:VCALENDAR
