BEGIN:VCALENDAR
VERSION:2.0
PRODID:-//ChamberMaster//Event Calendar 2.0//EN
METHOD:PUBLISH
X-PUBLISHED-TTL:P3D
REFRESH-INTERVAL:P3D
CALSCALE:GREGORIAN
BEGIN:VEVENT
DTSTART:20150930T183000Z
DTEND:20150930T203000Z
X-MICROSOFT-CDO-ALLDAYEVENT:FALSE
SUMMARY:September 30\, 2015 - Leadership Surrey Dialogue: Surrey's Transportation Future
DESCRIPTION:The Surrey Board of Trade will be hosting a Leadership Surrey Dialogue on the Surrey's transportation future with a focus on next steps for Surrey to improve its transit system.\n\n	Mayor Linda Hepner (City of Surrey)\n	Gordon Price (SFU-CITY Program Director)\n	Michael Harcourt (Former BC Premier)\n	Bill Wehnert (SBOT Transportation Team Chair)\n\nJoin us to discuss the immediate\, mid-term and long-term transportation needs of Surrey.
X-ALT-DESC;FMTTYPE=text/html:The Surrey Board of Trade will be hosting a Leadership Surrey Dialogue on the Surrey&#39\;s transportation future with a focus on next steps for Surrey to improve its transit system.\n<ul>\n	<li>Mayor Linda Hepner (City of Surrey)</li>\n	<li>Gordon Price (SFU-CITY Program Director)</li>\n	<li>Michael Harcourt (Former BC Premier)</li>\n	<li>Bill Wehnert (SBOT Transportation Team Chair)</li>\n</ul>\nJoin us to discuss the immediate\, mid-term and long-term transportation needs of Surrey.
LOCATION:Eaglequest Golf Course 7778 152 Street Surrey\, BC
UID:e.749.3652
SEQUENCE:3
DTSTAMP:20260423T201705Z
URL:https://business.swrbot.com/events/details/september-30-2015-leadership-surrey-dialogue-surrey-s-transportation-future-09-30-2015-3652
END:VEVENT

END:VCALENDAR
