BEGIN:VCALENDAR
VERSION:2.0
PRODID:-//ChamberMaster//Event Calendar 2.0//EN
METHOD:PUBLISH
X-PUBLISHED-TTL:P3D
REFRESH-INTERVAL:P3D
CALSCALE:GREGORIAN
BEGIN:VEVENT
DTSTART:20150930T150000Z
DTEND:20150930T170000Z
X-MICROSOFT-CDO-ALLDAYEVENT:FALSE
SUMMARY:September 30\, 2015 - Moving Beyond Conflict Workshop
DESCRIPTION:Moving Beyond Conflict: Creating Relationships AT work THAT work\n\n \n\nWe may not be able to choose who we work with but we do have to figure out how to work with our colleagues whether we like them or not. \n\n \n\nThis two hour interactive workshop explores the inner workings of conflict and provides the participants with strategies and tactics so they can manage themselves and other people more effectively during difficult discussion.  \n\n \n\nParticipants will discover:\n\n\n\n	Their conflict resilience score\n	One of the most powerful tool to move people towards harmony\n	The essential process to get through any difficult conversation\n	A four step self mediation process\n\n\nThis workshop is presented by Brenda Hooper\, Mediator & Dispute Resolution Coach.
X-ALT-DESC;FMTTYPE=text/html:<p style="font-family: arial\, sans-serif\; font-size: 13px\; color: rgb(0\, 102\, 0)\; margin: 0px\;"><span style="color: rgb(34\, 34\, 34)\;"><b>Moving Beyond Conflict: Creating Relationships AT work THAT work</b></span><br />\n&nbsp\;</p>\n\n<div style="font-family: arial\, sans-serif\; font-size: 13px\;">We may not be able to choose&nbsp\;<b>who</b>&nbsp\;we work with but we do have to figure out&nbsp\;<b>how</b>&nbsp\;to work with our colleagues whether we like them or not.&nbsp\;<br />\n&nbsp\;</div>\n\n<div style="font-family: arial\, sans-serif\; font-size: 13px\;">This two hour interactive workshop explores the inner workings of conflict and provides the participants with strategies and tactics so they can manage themselves and other people more effectively during difficult discussion. &nbsp\;</div>\n\n<div style="font-family: arial\, sans-serif\; font-size: 13px\;">&nbsp\;</div>\n\n<div style="font-family: arial\, sans-serif\; font-size: 13px\;">Participants will discover:</div>\n\n<div>\n<ul style="color: rgb(34\, 34\, 34)\; font-family: arial\, sans-serif\; font-style: normal\; font-variant: normal\; font-weight: normal\; letter-spacing: normal\; line-height: normal\; orphans: auto\; text-align: start\; text-indent: 0px\; text-transform: none\; white-space: normal\; widows: auto\; word-spacing: 0px\; -webkit-text-stroke-width: 0px\; font-size: 13px\; background-color: rgb(255\, 255\, 255)\;">\n	<li style="margin-left: 15px\;">Their conflict resilience score</li>\n	<li style="margin-left: 15px\;">One of the most powerful tool to move people towards harmony</li>\n	<li style="margin-left: 15px\;">The essential process to get through any difficult conversation</li>\n	<li style="margin-left: 15px\;">A four step self mediation process</li>\n</ul>\n\n<div style="color: rgb(34\, 34\, 34)\; font-family: arial\, sans-serif\; font-style: normal\; font-variant: normal\; font-weight: normal\; letter-spacing: normal\; line-height: normal\; orphans: auto\; text-align: start\; text-indent: 0px\; text-transform: none\; white-space: normal\; widows: auto\; word-spacing: 0px\; -webkit-text-stroke-width: 0px\; font-size: 13px\; background-color: rgb(255\, 255\, 255)\;">This workshop is presented by Brenda Hooper\, Mediator &amp\; Dispute Resolution Coach.</div>\n\n<div style="color: rgb(34\, 34\, 34)\; font-family: arial\, sans-serif\; font-style: normal\; font-variant: normal\; font-weight: normal\; letter-spacing: normal\; line-height: normal\; orphans: auto\; text-align: start\; text-indent: 0px\; text-transform: none\; white-space: normal\; widows: auto\; word-spacing: 0px\; -webkit-text-stroke-width: 0px\; font-size: 13px\; background-color: rgb(255\, 255\, 255)\;">&nbsp\;</div>\n</div>\n
LOCATION:Surrey Board of Trade Conference Room 101 - 14439 104 Ave Surrey\, BC
UID:e.749.3554
SEQUENCE:3
DTSTAMP:20260423T200241Z
URL:https://business.swrbot.com/events/details/september-30-2015-moving-beyond-conflict-workshop-09-30-2015-3554
END:VEVENT

END:VCALENDAR
