BEGIN:VCALENDAR
VERSION:2.0
PRODID:-//ChamberMaster//Event Calendar 2.0//EN
METHOD:PUBLISH
X-PUBLISHED-TTL:P3D
REFRESH-INTERVAL:P3D
CALSCALE:GREGORIAN
BEGIN:VEVENT
DTSTART:20180905T150000Z
DTEND:20180905T163000Z
X-MICROSOFT-CDO-ALLDAYEVENT:FALSE
SUMMARY:September 5\, 2018 - Roundtable Dialogue with ICBC’s President and CEO Nicholas Jimenez
DESCRIPTION:Can you attend the Surrey Board of Trade Business Roundtable Dialogue with ICBC's President and CEO Nicholas Jimenez on Wednesday\, September 5 at the Surrey Board of Trade Conference Room? Ask the CEO regarding the new changes coming to auto insurance.
X-ALT-DESC;FMTTYPE=text/html:<span style="font-size:14px\;">Can you attend the Surrey Board of Trade Business Roundtable Dialogue with <strong>ICBC&rsquo\;s President and CEO Nicholas Jimenez </strong>on&nbsp\;<strong>Wednesday\, September 5 at the Surrey Board of Trade Conference Room? </strong>Ask the CEO regarding the new changes coming to auto insurance.&nbsp\;</span>
LOCATION:Surrey Board of Trade (101-14439\, 104th Avenue\, Surrey)
UID:e.749.9609
SEQUENCE:3
DTSTAMP:20260421T065343Z
URL:https://business.swrbot.com/events/details/september-5-2018-roundtable-dialogue-with-icbc-s-president-and-ceo-nicholas-jimenez-09-05-2018-9609
END:VEVENT

END:VCALENDAR
