BEGIN:VCALENDAR
VERSION:2.0
PRODID:-//ChamberMaster//Event Calendar 2.0//EN
METHOD:PUBLISH
X-PUBLISHED-TTL:P3D
REFRESH-INTERVAL:P3D
CALSCALE:GREGORIAN
BEGIN:VEVENT
DTSTART;VALUE=DATE:20100909
DTEND;VALUE=DATE:20100910
TRANSP:TRANSPARENT
X-MICROSOFT-CDO-ALLDAYEVENT:TRUE
SUMMARY:September 9\, 2010 - Breakfast in the City
DESCRIPTION:Have breakfast and network with your fellow Board of Trade members at this popular morning event. \n\nYou can help welcome our new members and establish new contacts too\, while you learn more about some of the advantages of belonging to the Surrey Board of Trade.
X-ALT-DESC;FMTTYPE=text/html:<div>Have breakfast and network with your fellow Board of Trade members at this popular morning event. <br /><br />You can help welcome our new members and establish new contacts too\, while you learn more about some of the advantages of belonging to the Surrey Board of Trade.</div>
LOCATION:Sheraton Vancouver Guildford Hotel (15269 104th Ave\, Surrey)
UID:e.749.1633
SEQUENCE:3
DTSTAMP:20260422T162128Z
URL:https://business.swrbot.com/events/details/september-9-2010-breakfast-in-the-city-09-09-2010-1633
END:VEVENT

END:VCALENDAR
