BEGIN:VCALENDAR
VERSION:2.0
PRODID:-//ChamberMaster//Event Calendar 2.0//EN
METHOD:PUBLISH
X-PUBLISHED-TTL:P3D
REFRESH-INTERVAL:P3D
CALSCALE:GREGORIAN
BEGIN:VEVENT
DTSTART:20190909T190000Z
DTEND:20190909T220000Z
X-MICROSOFT-CDO-ALLDAYEVENT:FALSE
SUMMARY:September 9\, 2019 - Canadian Chamber of Commerce Policy Review Session
DESCRIPTION:Canadian Chamber of Commerce Policy Review Session\n\n\n\nClick HERE to read the 2019 Proposed Policy Resolutions.
X-ALT-DESC;FMTTYPE=text/html:<strong><font face="arial\, sans-serif">Canadian Chamber of Commerce Policy Review Session</font></strong><br />\n<br />\n<font face="arial\, sans-serif">Click <a href="https://chambermaster.blob.core.windows.net/userfiles/UserFiles/chambers/749/File/2019ProposedResolutionsBook.pdf" target="_blank">HERE</a> to read the 2019 Proposed Policy Resolutions.</font>
LOCATION:Surrey Board of Trade Conference Room 101-14439 104 Avenue
UID:e.749.10595
SEQUENCE:3
DTSTAMP:20260420T140544Z
URL:https://business.swrbot.com/events/details/september-9-2019-canadian-chamber-of-commerce-policy-review-session-09-09-2019-10595
END:VEVENT

END:VCALENDAR
