BEGIN:VCALENDAR
VERSION:2.0
PRODID:-//ChamberMaster//Event Calendar 2.0//EN
METHOD:PUBLISH
X-PUBLISHED-TTL:P3D
REFRESH-INTERVAL:P3D
CALSCALE:GREGORIAN
BEGIN:VEVENT
DTSTART:20120714T020000Z
DTEND:20120715T233000Z
X-MICROSOFT-CDO-ALLDAYEVENT:FALSE
SUMMARY:Sesame Street
DESCRIPTION:"Elmo Makes Music" Jenny\, an enthusiastic new music teacher\, arrives on Sesame Street only to discover that her instruments are missing. Jenny's new Muppet friends quickly come to the rescue and discover 'instruments' they never knew existed rubber duckies\, trash can lids and even cookie jars. Elmo\, Abby Cadabby and friends teach children that everyone can make and enjoy beautiful music together.\n\n	\n\n	Like television's Sesame Street\, each Sesame Street Live production features timeless lessons for all ages. Through the razzle-dazzle of this Broadway-quality musical production\, children learn about patience\, acceptance and teamwork. The universal appeal of a Sesame Street Live production continues long after preschool. Adults will appreciate the high-tech stagecraft\, cleverly written scripts\, and music they'll recognize and enjoy sharing with children\, such as "The Hustle\," "You Should Be Dancing" and "Rockin' Robin." "Elmo Makes Music" features nearly two dozen songs\, including classics that children will love to sing along with such as "C Is for Cookie" and "The Alphabet Song."\n\n	 \n\n	Groups of 10+ Can Save $3 Per Ticket please contact Jessica Steward   Group Sales Manager at 604-743-5030.
X-ALT-DESC;FMTTYPE=text/html:<p class="MsoNormal" style="line-height: normal\; margin: 0cm 0cm 0pt">\n	<span style="font-size: 12pt\; mso-fareast-font-family: 'times new roman'\; mso-bidi-font-family: 'times new roman'\; mso-fareast-language: en-ca"><font color="#000000"><font face="Calibri">&ldquo\;Elmo Makes Music&rdquo\; Jenny\, an enthusiastic new music teacher\, arrives on Sesame Street only to discover that her instruments are missing. Jenny&rsquo\;s new Muppet friends quickly come to the rescue and discover &lsquo\;instruments&rsquo\; they never knew existed&hellip\;rubber duckies\, trash can lids and even cookie jars. Elmo\, Abby Cadabby and friends teach children that everyone can make and enjoy beautiful music together.<br />\n	<br />\n	Like television&rsquo\;s Sesame Street\, each Sesame Street Live production features timeless lessons for all ages. Through the razzle-dazzle of this Broadway-quality musical production\, children learn about patience\, acceptance and teamwork. The universal appeal of a Sesame Street Live production continues long after preschool. Adults will appreciate the high-tech stagecraft\, cleverly written scripts\, and music they&rsquo\;ll recognize and enjoy sharing with children\, such as &ldquo\;The Hustle\,&rdquo\; &ldquo\;You Should Be Dancing&rdquo\; and &ldquo\;Rockin&rsquo\; Robin.&rdquo\; &ldquo\;Elmo Makes Music&rdquo\; features nearly two dozen songs\, including classics that children will love to sing along with such as &ldquo\;C Is for Cookie&rdquo\; and &ldquo\;The Alphabet Song.&rdquo\;<o:p></o:p></font></font></span></p>\n<p class="MsoNormal" style="line-height: normal\; margin: 0cm 0cm 0pt">\n	<span style="font-size: 12pt\; mso-fareast-font-family: 'times new roman'\; mso-bidi-font-family: 'times new roman'\; mso-fareast-language: en-ca"><o:p><font color="#000000" face="Calibri">&nbsp\;</font></o:p></span></p>\n<p class="MsoNormal" style="line-height: normal\; margin: 0cm 0cm 0pt">\n	<span style="font-size: 12pt\; mso-fareast-font-family: 'times new roman'\; mso-bidi-font-family: 'times new roman'\; mso-fareast-language: en-ca"><font color="#000000"><font face="Calibri">Groups of 10+ Can Save $3 Per Ticket please contact Jessica Steward &ndash\; Group Sales Manager at 604-743-5030.<o:p></o:p></font></font></span></p>\n
LOCATION:Abbotsford Entertainment and Sports Centre
UID:e.749.2047
SEQUENCE:3
DTSTAMP:20260421T075835Z
URL:https://business.swrbot.com/events/details/sesame-street-07-13-2012-2047
END:VEVENT

END:VCALENDAR
